BEGIN:VCALENDAR
VERSION:2.0
PRODID:-//evangelische-termine.de//NONSGML kigkonsult.se iCalcreator 2.18//
CALSCALE:GREGORIAN
METHOD:PUBLISH
X-WR-CALNAME:iCal Evangelische-Termine 19.04.2026
X-WR-CALDESC:iCalender von Evangelische-Termine (19.04.2026)
X-WR-TIMEZONE:Europe/Berlin
X-MS-OLK-FORCEINSPECTOROPEN:TRUE
BEGIN:VTIMEZONE
TZID:Europe/Berlin
BEGIN:STANDARD
DTSTART:19701025T030000
TZOFFSETFROM:+0200
TZOFFSETTO:+0100
RRULE:FREQ=YEARLY;BYDAY=-1SU;BYMONTH=10
TZNAME:CET
END:STANDARD
BEGIN:DAYLIGHT
DTSTART:19700329T020000
TZOFFSETFROM:+0100
TZOFFSETTO:+0200
RRULE:FREQ=YEARLY;BYDAY=-1SU;BYMONTH=3
TZNAME:CEST
END:DAYLIGHT
END:VTIMEZONE
BEGIN:VEVENT
UID:20260209T190000-1003769@evangelische-termine.de
DTSTAMP:20260419T175604Z
DESCRIPTION:\nKirchenkreis: überregional\nArt der Veranstaltung: Fortbildun
 gen / Seminare / Vorträge\nVeranstaltungsort: Ev. Gemeindezentrum Kirchber
 g\nSimmerner Straße 25\, Friedenskirche\n55481 Kirchberg\nKurzbeschreibung
  / Untertitel: Eine zutiefst ergreifende Geschichte über Vergangenheitsbew
 ältigung\nAusführliche Beschreibung: Eine Lesung und Austausch mit Reiner 
 Engelmann.\nFörderbereich: Politische Bildung\nReferent/in: Reiner Engelma
 nn\nAnsprechpartner/in - Leitung: Reiner Engelmann\nKosten: kostenfrei – S
 pende erbeten –
DTSTART;TZID=Europe/Berlin:20260209T190000
DTEND;TZID=Europe/Berlin:20260209T200000
LOCATION:Kirchberg: Ev. Gemeindezentrum Kirchberg
SUMMARY:„Die Schuld wohnt nebenan“ :: Reiner Engelmann – Lesung und Austaus
 ch
URL:https://termine.ekir.de/veranstaltung_im_detail1003769.html
END:VEVENT
END:VCALENDAR
