BEGIN:VCALENDAR
VERSION:2.0
PRODID:-//evangelische-termine.de//NONSGML kigkonsult.se iCalcreator 2.18//
CALSCALE:GREGORIAN
METHOD:PUBLISH
X-WR-CALNAME:iCal Evangelische-Termine 23.04.2026
X-WR-CALDESC:iCalender von Evangelische-Termine (23.04.2026)
X-WR-TIMEZONE:Europe/Berlin
X-MS-OLK-FORCEINSPECTOROPEN:TRUE
BEGIN:VTIMEZONE
TZID:Europe/Berlin
BEGIN:STANDARD
DTSTART:19701025T030000
TZOFFSETFROM:+0200
TZOFFSETTO:+0100
RRULE:FREQ=YEARLY;BYDAY=-1SU;BYMONTH=10
TZNAME:CET
END:STANDARD
BEGIN:DAYLIGHT
DTSTART:19700329T020000
TZOFFSETFROM:+0100
TZOFFSETTO:+0200
RRULE:FREQ=YEARLY;BYDAY=-1SU;BYMONTH=3
TZNAME:CEST
END:DAYLIGHT
END:VTIMEZONE
BEGIN:VEVENT
UID:20260501T140000-1010317@evangelische-termine.de
DTSTAMP:20260423T015009Z
DESCRIPTION:\nOrt: Evangelische Kirche Goch\nMarkt 6\n47574 Goch\nArt der V
 eranstaltung: Konzerte / Theater / Musik\nInternetadresse (eigene Infos im
  Internet): https://www.evangelischekirchegoch.de\nEmail: anne.hartmann@ek
 ir.de\nAnsprechpartner: Anne Hartmann anne.hartmann@ekir.de\nWeitere Infor
 mationen: One Day Choir am 1. Mai 2026\, 14-17.30 Uhr\n\nSingen macht Freu
 de – besonders gemeinsam! Genau das ist die Idee hinter dem One Day Choir:
  Menschen jeden Alters und jeder musikalischen Erfahrung sind eingeladen\,
  für einen (Nachmit-)Tag zusammenzukommen und gemeinsam ein Lied einzustud
 ieren. Ohne Aufführung\, nur mit dem Ziel\, gemeinsam mehrstimmig zu singe
 n. Ob jung oder alt\, mit oder ohne Chorerfahrung – alle sind herzlich wil
 lkommen! Wichtig ist nur die Lust am gemeinsamen Singen und eine Portion N
 eugier. Das Lied\, das wir einüben und singen werden\, ist der Song 'Wie s
 chön du bist' von Sarah Connor. Mitzubringen sind nur ein Snack und ein ei
 genes Getränk für die Selbstverpflegung in der Pause.\n\nLeitung: Popkanto
 rin Anne Hartmann\n\nOrt:\nEvangelische Kirche Goch\nMarkt 6\n47574 Goch\n
 : 
DTSTART;TZID=Europe/Berlin:20260501T140000
DTEND;TZID=Europe/Berlin:20260501T173000
LOCATION:Goch: Evangelische Kirche Goch
SUMMARY:One Day Choir
URL:https://termine.ekir.de/veranstaltung_im_detail1010317.html
END:VEVENT
END:VCALENDAR
