BEGIN:VCALENDAR
VERSION:2.0
PRODID:-//evangelische-termine.de//NONSGML kigkonsult.se iCalcreator 2.18//
CALSCALE:GREGORIAN
METHOD:PUBLISH
X-WR-CALNAME:iCal Evangelische-Termine 24.04.2026
X-WR-CALDESC:iCalender von Evangelische-Termine (24.04.2026)
X-WR-TIMEZONE:Europe/Berlin
X-MS-OLK-FORCEINSPECTOROPEN:TRUE
BEGIN:VTIMEZONE
TZID:Europe/Berlin
BEGIN:STANDARD
DTSTART:19701025T030000
TZOFFSETFROM:+0200
TZOFFSETTO:+0100
RRULE:FREQ=YEARLY;BYDAY=-1SU;BYMONTH=10
TZNAME:CET
END:STANDARD
BEGIN:DAYLIGHT
DTSTART:19700329T020000
TZOFFSETFROM:+0100
TZOFFSETTO:+0200
RRULE:FREQ=YEARLY;BYDAY=-1SU;BYMONTH=3
TZNAME:CEST
END:DAYLIGHT
END:VTIMEZONE
BEGIN:VEVENT
UID:20260615T183000-1025932@evangelische-termine.de
DTSTAMP:20260424T133903Z
DESCRIPTION:\nUntertitel: mit Marthe Zirngiebl\, TU Dortmund\, Wissenschaft
 liche Mitarbeiterin Forschungsbereich Innovation und Bildung in der digita
 len Gesellschaft\nBeschreibung: und mit Professor Dr. rer. pol. Stefan Jun
 g\, Evangelische Hochschule Hessen\, University of Applied Sciences \nsowi
 e mit Professor Dr. Roland Schöttler\, EvH Bochum\n\nWeiterentwicklung uns
 erer bisherigen Erkenntnisse im Austausch mit wissenschaftlichen Partnern 
 \n \nIm Dialog weiterdenken:\n\nIn dieser Veranstaltung bringen wir die Er
 gebnisse unserer Begleitforschung in den Austausch mit externen wissenscha
 ftlichen Perspektiven. \n\nGemeinsam mit Partnern aus der Forschung schärf
 en wir Erkenntnisse\, hinterfragen bestehende Ansätze und entwickeln Impul
 se für die nächsten Schritte. \n\nSo entsteht ein Raum\, in dem Reflexion\
 , Vernetzung und Weiterentwicklung Hand in Hand gehen.\n\nDiese Veranstalt
 ung verbindet praktische Erfahrungen mit systemischen Perspektiven und fra
 gt: Wie können Strukturen\, Zusammenarbeit und Haltung so gestaltet werden
 \, dass Innovation wirklich wirksam wird?\nAnmeldung: https://events.crm.e
 kir.de/civiremote/event/3374/register\nVeranstaltungsort: Zoom\n Internet
DTSTART;TZID=Europe/Berlin:20260615T183000
DTEND;TZID=Europe/Berlin:20260615T210000
LOCATION:Internet: Zoom
SUMMARY:ThinkTank - Begleitforschung im Dialog mit externer Perspektive'
URL:https://termine.ekir.de/veranstaltung_im_detail1025932.html
END:VEVENT
END:VCALENDAR
