BEGIN:VCALENDAR
VERSION:2.0
PRODID:-//evangelische-termine.de//NONSGML kigkonsult.se iCalcreator 2.18//
CALSCALE:GREGORIAN
METHOD:PUBLISH
X-WR-CALNAME:iCal Evangelische-Termine 19.04.2026
X-WR-CALDESC:iCalender von Evangelische-Termine (19.04.2026)
X-WR-TIMEZONE:Europe/Berlin
X-MS-OLK-FORCEINSPECTOROPEN:TRUE
BEGIN:VTIMEZONE
TZID:Europe/Berlin
BEGIN:STANDARD
DTSTART:19701025T030000
TZOFFSETFROM:+0200
TZOFFSETTO:+0100
RRULE:FREQ=YEARLY;BYDAY=-1SU;BYMONTH=10
TZNAME:CET
END:STANDARD
BEGIN:DAYLIGHT
DTSTART:19700329T020000
TZOFFSETFROM:+0100
TZOFFSETTO:+0200
RRULE:FREQ=YEARLY;BYDAY=-1SU;BYMONTH=3
TZNAME:CEST
END:DAYLIGHT
END:VTIMEZONE
BEGIN:VEVENT
UID:20170918T000000-225615@evangelische-termine.de
DTSTAMP:20260419T143344Z
DESCRIPTION:\nKirchenkreis: überregional\nArt der Veranstaltung: Fortbildun
 gen / Seminare / Vorträge\nVeranstaltungsort: Neuwied\, Andernach und Umge
 bung\nRheinstr. 69\n56564 Neuwied\nAusführliche Beschreibung: Kulturführer
 schein® Glauben \n\nWas kann ich glauben?\nWo finde ich Orientierung?\nWar
 um gibt es so viele Religionen?\nWie unterscheiden sich die Kirchen?\nWiev
 iel Religion braucht und verträgt eine Gesellschaft?\n\nEs gibt viele Frag
 en zu Glauben und Religion. Und noch viel mehr Antworten.\nUm sich zurecht
 zufinden in einer Vielzahl von Religionen und Glaubensangeboten\, könnte e
 ine Art „Führerschein“ helfen. Wie beim Autofahren theoretische Kenntnisse
  und praktische Übungen zu einer selbständigen Fahrpraxis führen\, leitet 
 auch der Kulturführerschein® Glauben zur theoretischen und praktischen Aus
 einandersetzung mit Themen an\, die die Menschheit seit jeher beschäftigen
 .\n\nAm Ende steht nicht etwa eine „Glaubensprüfung“\, sondern eine von Ih
 nen selbst entwickelte Idee zu einem Aspekt des Themas Glauben und deren U
 msetzung in der \nSeminargruppe oder an einem selbstgewählten Ort. \n\nDie
  Fortbildung eignet sich daher für alle\, die mehr über den Glauben wissen
  wollen\, und vor allem jene\, die etwas davon weitergeben wollen\, egal w
 o. \n\nDas Seminar besteht aus sechs ganztägigen Workshops\, die einer vor
 gegebenen Struktur folgen. Sie enthalten Elemente biografischer Arbeit und
  kreativer Gestaltung sowie Informationen und Exkursionen zu jeweils zum T
 hema passenden Orten des kirchlichen\, religiösen oder kulturellen Lebens.
  Zwei weitere Tage sind für die Präsentation oder das Ausprobieren der Bei
 träge der Teilnehmer/innen vorgesehen. Das Seminar endet mit der Vergabe d
 es Zertifikats „Kulturführerschein® Glauben“. \n\nInhalt\n•	Was ist Glauben
 ? Wie entsteht er\, wie wird er vermittelt?\n•	Glauben üben durch Singen\, 
 Beten\, Atmen\, Gehen\n•	Heil und Heilung zwischen Medizin und Religion\n•	G
 lauben feiern in Ritualen und Festen\n•	Der Tisch ist gedeckt. Essen\, Trin
 ken und Fasten\n•	Für Überzeugungen einstehen\n\nWeitere Themen werden sich
  aus dem Kurs entwickeln.\n\nDer Einführungsnachmittag hilft Ihnen bei der
  Entscheidung\, an dem Kurs teilzunehmen. Der Kurs ist nur insgesamt buchb
 ar. \n\nAnmeldeschluss ist am 07.09.2017 (für den Einführungsnachmittag) b
 zw. 25.09.2017 (für den gesamten Kurs).\n\nTermine: \nEinführung: 18.09.20
 17\, 15.00 bis 17.30 Uhr\n\nWorkshops: 23.10.\, 20.11.\, 11.12.2017\, 15.0
 1.\, 19.02.\, 12.03.\, 16.04.\, 07.05.2018\, jeweils 10.00 bis 17.00 Uhr\n
 \nAbschluss/Zertifikatsvergabe: 04.06.2018\nInternetadresse (eigene Infos 
 im Internet): http://www.eeb-sued.de\nFörderbereich: Religiöse Bildung\, R
 eligionen\, Theologie\, Ethik\, Grenzfragen\nReferent/in: Margit Büttner\,
  Pfarrerin\, Bildungsreferentin\, Andreas Fischer\, Dozent am Bildungszent
 rum Bürgermedien\, und andere\nAnsprechpartner/in - Leitung: Margit Büttne
 r\, Pfarrerin\, Bildungsreferentin\nMainzer str. 81\n56075 Koblenz\nTelefo
 n 0261-9116164\nE-Mail: mbuettner@eeb-sued.de\nKosten: 95\,- €\nZusatzinfo
 rmationen: Informationen und Anmeldung: Ev. Erwachsenenbildungswerk Rheinl
 and-Süd e.V\, Telefon 06761-7018 oder 0261-9116164\, E-Mail mbuettner@eeb-
 sued.de
DTSTART;VALUE=DATE:20170918
DTEND;VALUE=DATE:20170919
LOCATION:Neuwied: Neuwied\, Andernach und Umgebung
SUMMARY:Kulturführerschein Glauben
URL:https://termine.ekir.de/veranstaltung_im_detail225615.html
END:VEVENT
END:VCALENDAR
