BEGIN:VCALENDAR
VERSION:2.0
PRODID:-//evangelische-termine.de//NONSGML kigkonsult.se iCalcreator 2.18//
CALSCALE:GREGORIAN
METHOD:PUBLISH
X-WR-CALNAME:iCal Evangelische-Termine 20.04.2026
X-WR-CALDESC:iCalender von Evangelische-Termine (20.04.2026)
X-WR-TIMEZONE:Europe/Berlin
X-MS-OLK-FORCEINSPECTOROPEN:TRUE
BEGIN:VTIMEZONE
TZID:Europe/Berlin
BEGIN:STANDARD
DTSTART:19701025T030000
TZOFFSETFROM:+0200
TZOFFSETTO:+0100
RRULE:FREQ=YEARLY;BYDAY=-1SU;BYMONTH=10
TZNAME:CET
END:STANDARD
BEGIN:DAYLIGHT
DTSTART:19700329T020000
TZOFFSETFROM:+0100
TZOFFSETTO:+0200
RRULE:FREQ=YEARLY;BYDAY=-1SU;BYMONTH=3
TZNAME:CEST
END:DAYLIGHT
END:VTIMEZONE
BEGIN:VEVENT
UID:20210730T100000-511236@evangelische-termine.de
DTSTAMP:20260420T080353Z
DESCRIPTION:\nOrt: Lukaskirche Richrath\nKaiserstr. 12\n40764 Langenfeld\nB
 us 785 Haltestelle Richrath Kirche\nParkplätze vor und hinter der Lukaskir
 che\nArt der Veranstaltung: Sport/Spiel\nAnsprechpartner: Küster Oxana Git
 tel und Hermann Rait oxana.gittel@ekir.de\; hermann.rait@ekir.de
DTSTART;TZID=Europe/Berlin:20210730T100000
DTEND;TZID=Europe/Berlin:20210730T104500
LOCATION:Langenfeld: Lukaskirche Richrath
SUMMARY:Seniorengymnastik
URL:https://termine.ekir.de/veranstaltung_im_detail511236.html
END:VEVENT
END:VCALENDAR
