BEGIN:VCALENDAR
VERSION:2.0
PRODID:-//evangelische-termine.de//NONSGML kigkonsult.se iCalcreator 2.18//
CALSCALE:GREGORIAN
METHOD:PUBLISH
X-WR-CALNAME:iCal Evangelische-Termine 19.04.2026
X-WR-CALDESC:iCalender von Evangelische-Termine (19.04.2026)
X-WR-TIMEZONE:Europe/Berlin
X-MS-OLK-FORCEINSPECTOROPEN:TRUE
BEGIN:VTIMEZONE
TZID:Europe/Berlin
BEGIN:STANDARD
DTSTART:19701025T030000
TZOFFSETFROM:+0200
TZOFFSETTO:+0100
RRULE:FREQ=YEARLY;BYDAY=-1SU;BYMONTH=10
TZNAME:CET
END:STANDARD
BEGIN:DAYLIGHT
DTSTART:19700329T020000
TZOFFSETFROM:+0100
TZOFFSETTO:+0200
RRULE:FREQ=YEARLY;BYDAY=-1SU;BYMONTH=3
TZNAME:CEST
END:DAYLIGHT
END:VTIMEZONE
BEGIN:VEVENT
UID:20220126T190000-575398@evangelische-termine.de
DTSTAMP:20260419T142245Z
DESCRIPTION:\nKirchenkreis: überregional\nKurzbeschreibung / Untertitel: On
 line-Seminar per Zoom\nAusführliche Beschreibung: Kreatives biografisches 
 Schreiben ist einfach und zugleich erkenntnisreich. \nImmer geht es dabei 
 um uns: Um unsere Beziehungen (auch die zu uns selbst)\, um unsere Lebense
 rfahrungen\, Gedanken und Deutungen. \nKreatives Schreiben ist zudem beglü
 ckend\, weil wir unsere gerade entstandenen Texte miteinander teilen. (Nei
 n\, keine Sorge\, die anderen finden unser Geschriebenes immer besser als 
 wir selber!) \nEs ist unerwartet wunderbar\, sich im Hören auf das Geschri
 ebene berühren zu lassen und dabei zu erleben\, dass die eigenen Texte ebe
 nfalls etwas zum Klingen bringen. \nDu glaubst\, du kannst nicht schreiben
 ? \nWir behaupten: Jede kann schreiben! Es geht nämlich nicht um richtig o
 der schön oder literarisch wertvoll. Jede\, die bereit ist\, sich darauf e
 inzulassen und einfach drauf los zuschreiben\, wird staunen\, was auf dem 
 Papier steht.\n\nSchreibcoach Susanne Barth führt mit abwechslungsreichen 
 Impulsen durch das zweistündige Programm. Die Winninger Vikarin Lisa Schrö
 der wird den Abend am 26.1. mit einem theologischen Abschlussimpuls bereic
 hern.\nFörderbereich: Abschluss- und schulabschlussbezogene Bildung\nRefer
 ent/in: Susanne Barth\, Schreibcoach\nAnsprechpartner/in - Leitung: Margit
  Büttner\nKosten: keine
DTSTART;TZID=Europe/Berlin:20220126T190000
DTEND;TZID=Europe/Berlin:20220126T210000
LOCATION:Internet: nur Internet
SUMMARY:Zeit zum Ausprobieren: Kreatives Schreiben für Einsteigerinnen In d
 er Reihe Digitale Frauentreffen
URL:https://termine.ekir.de/veranstaltung_im_detail575398.html
END:VEVENT
END:VCALENDAR
