BEGIN:VCALENDAR
VERSION:2.0
PRODID:-//evangelische-termine.de//NONSGML kigkonsult.se iCalcreator 2.18//
CALSCALE:GREGORIAN
METHOD:PUBLISH
X-WR-CALNAME:iCal Evangelische-Termine 22.04.2026
X-WR-CALDESC:iCalender von Evangelische-Termine (22.04.2026)
X-WR-TIMEZONE:Europe/Berlin
X-MS-OLK-FORCEINSPECTOROPEN:TRUE
BEGIN:VTIMEZONE
TZID:Europe/Berlin
BEGIN:STANDARD
DTSTART:19701025T030000
TZOFFSETFROM:+0200
TZOFFSETTO:+0100
RRULE:FREQ=YEARLY;BYDAY=-1SU;BYMONTH=10
TZNAME:CET
END:STANDARD
BEGIN:DAYLIGHT
DTSTART:19700329T020000
TZOFFSETFROM:+0100
TZOFFSETTO:+0200
RRULE:FREQ=YEARLY;BYDAY=-1SU;BYMONTH=3
TZNAME:CEST
END:DAYLIGHT
END:VTIMEZONE
BEGIN:VEVENT
UID:20221208T183000-616179@evangelische-termine.de
DTSTAMP:20260421T221513Z
DESCRIPTION:\nVeranstalterin: Eine Kooperationsveranstaltung der Evangelisc
 hen Akademie im Rheinland\nThemenbereich : Wirtschaft\nMehr Informationen:
  Zur Überwindung der Klimakrise braucht es einen gesellschaftlichen Krafta
 kt. Doch die Herausforderungen der notwendigen ökologischen Transformation
  lassen sich nicht trennen von großen sozialen Fragen.\n\nKann der Wandel 
 sozial gerecht gestaltet werden oder sind neue soziale Risse unvermeidlich
 ? Die Diakonie Rheinland-Westfalen-Lippe und die Evangelische Akademie im 
 Rheinland stellen diese Frage ins Zentrum einer gemeinsamen Tagung und lad
 en dazu ein\, mit Stimmen aus Wissenschaft\, Kirche\, Diakonie und Politik
  ins Gespräch zu kommen.\n\nDie vielfach ausgezeichnete Soziologin Prof. D
 r. Jutta Allmendinger\, Präsidentin des Wissenschaftszentrums Berlin\, erö
 ffnet die Tagung mit einem öffentlichen Abendvortrag am 8. Dezember 2022 u
 m 18:30 Uhr im Haus der Kirche in Bonn. Sie fragt: Welche sozialen Herausf
 orderungen stellen sich uns in der Transformation? Wen treffen diese Folge
 n schon heute in besonderem Maße? Wie kann eine Spaltung der Gesellschaft 
 im Angesicht der Umbrüche verhindert werden?\n\nDer anschließende Fachtag 
 am 9. Dezember vertieft die Aspekte der Arbeitsmarktpolitik und der Armuts
 bekämpfung u.a. mit: Dr. Sarah Köhler (Ökumenische Arbeitsstelle Anthropoz
 än)\, Dr. Markus Janser (IAB)\, Anna-Lena Guske (Diakonie Deutschland)\, D
 ietmar Pistorius (Superintendent des Kirchenkreises Bonn) und Tim Achterme
 yer\, MdL\, (Vorsitzender Grünen NRW). Die Expert*innen verschiedener Fach
 richtungen greifen diese Aspekte auf und diskutieren sie auch im Hinblick 
 auf kirchliche und diakonische Handlungsfelder. Nach jedem Beitrag bietet 
 sich der Raum für Austausch und Diskussion.\nKooperationspartner:innen : D
 iakonisches Werk Rheinland-Westfalen-Lippe e.V.\nEvangelisches Forum Bonn
 \nEvangelische Akademie im Rheinland\nAnmeldung und praktische Hinweise: E
 ine Teilnahme an lediglich einem der beiden Veran­staltungstage ist möglic
 h. \nSie können sich zum Abendvortrag kurzfristig anmelden.\nEine Anmeldun
 g zum Studientag ist noch bis zum 5. Dezember möglich.\n\nFür Ihre Teilnah
 me am Abendvortrag und/oder am Studientag vor Ort (Haus der Evangelischen 
 Kirche) in Bonn melden Sie sich bitte per Mail an: martina.steffen@akademi
 e.ekir.de \n\nFalls Sie den Abendvortrag online im Livestream verfolgen wo
 llen ist eine Anmeldung zum Zoom-Webinar hier möglich:\nhttps://eu01web.zo
 om.us/webinar/register/WN_uX3Ga6tSRyucjr11l7ZIqw\nKosten: Die Teilnahme am
  Abendvortrag ist kostenlos\, die Teilnahmegebühr am Studientag beträgt 35
  €.\nAnsprechpartner:in: Dr. Kathrin S. Kürzinger\, Studienleiterin\nTheme
 nbereich: Transformation von Arbeit und Wirtschaft\nhttps://www.kirche-arb
 eit-wirtschaft.de/\nTel.: 0228 479898-50\nVeranstaltungsort: Haus der Evan
 gelischen Kirche Bonn\nAdenauer Allee 37\n53113 Bonn\nHinweise (Förderung\
 , Programm o.ä.): Programm zum Download:\nhttps://redstorage.ekir.de/f/bc0
 d31f131d640e19db7/?dl=1\n\nEine Teilnahme an lediglich einem der beiden Ve
 ranstaltungstage ist möglich. Der Abendvortrag ist hybrid (also zusätzlich
  online).\nInternetadresse: https://ev-akademie-rheinland.ekir.de/\nE-Mail
 : info@akademie.ekir.de
DTSTART;TZID=Europe/Berlin:20221208T183000
DTEND;TZID=Europe/Berlin:20221208T203000
LOCATION:Bonn: Haus der Evangelischen Kirche Bonn
SUMMARY:Klima - Arbeit - Armut – ein (un)auflösbares Dilemma? :: Vortrag vo
 n Prof. Dr. Jutta Allmendinger
URL:https://termine.ekir.de/veranstaltung_im_detail616179.html
END:VEVENT
END:VCALENDAR
