BEGIN:VCALENDAR
VERSION:2.0
PRODID:-//evangelische-termine.de//NONSGML kigkonsult.se iCalcreator 2.18//
CALSCALE:GREGORIAN
METHOD:PUBLISH
X-WR-CALNAME:iCal Evangelische-Termine 19.04.2026
X-WR-CALDESC:iCalender von Evangelische-Termine (19.04.2026)
X-WR-TIMEZONE:Europe/Berlin
X-MS-OLK-FORCEINSPECTOROPEN:TRUE
BEGIN:VTIMEZONE
TZID:Europe/Berlin
BEGIN:STANDARD
DTSTART:19701025T030000
TZOFFSETFROM:+0200
TZOFFSETTO:+0100
RRULE:FREQ=YEARLY;BYDAY=-1SU;BYMONTH=10
TZNAME:CET
END:STANDARD
BEGIN:DAYLIGHT
DTSTART:19700329T020000
TZOFFSETFROM:+0100
TZOFFSETTO:+0200
RRULE:FREQ=YEARLY;BYDAY=-1SU;BYMONTH=3
TZNAME:CEST
END:DAYLIGHT
END:VTIMEZONE
BEGIN:VEVENT
UID:20221008T100000-636470@evangelische-termine.de
DTSTAMP:20260419T143343Z
DESCRIPTION:\nKirchenkreis: überregional\nArt der Veranstaltung: Fortbildun
 gen / Seminare / Vorträge\nVeranstaltungsort: Ev. Öffentliche Bücherei Wis
 sen/Sieg\nAuf d. Rahm 19\n57537 Wissen\nKurzbeschreibung / Untertitel: Bes
 tandsaufbau\, Bestandspflege und Sichtungsinstrumente\nAusführliche Beschr
 eibung: An diesem Studientag geht es um den Bestandsaufbau und die -pflege
  der Buchbestände in Büchereien. Dazu lernen Sie verschiedene Sichtungsins
 trument kennen um die Bedarfe zu ermitteln und den Bestand besser zu struk
 turieren und erweitern.\nInternetadresse (eigene Infos im Internet): http:
 //www.eeb-sued.de\nFörderbereich: Ehrenamt\nReferent/in: Judith Schumacher
 \, Helena Schäuble\nAnsprechpartner/in - Leitung: Helena Schäuble\nKosten:
  20\,00 €\nZusatzinformationen: ohne Verpflegung\nKursnummer: 0001\nAnspre
 chpartner: Helena Schäuble anmeldung@eeb-sued.de\nTelefon 06761/7018\nwww.
 eeb-sued.de
DTSTART;TZID=Europe/Berlin:20221008T100000
DTEND;TZID=Europe/Berlin:20221008T170000
LOCATION:Wissen: Ev. Öffentliche Bücherei Wissen/Sieg
SUMMARY:Qualifizierungskurse „Fit für die Büchereiarbeit“ :: Bestandsaufbau
 \, Bestandspflege und Sichtungsinstrumente
URL:https://termine.ekir.de/veranstaltung_im_detail636470.html
END:VEVENT
END:VCALENDAR
