BEGIN:VCALENDAR
VERSION:2.0
PRODID:-//evangelische-termine.de//NONSGML kigkonsult.se iCalcreator 2.18//
CALSCALE:GREGORIAN
METHOD:PUBLISH
X-WR-CALNAME:iCal Evangelische-Termine 19.04.2026
X-WR-CALDESC:iCalender von Evangelische-Termine (19.04.2026)
X-WR-TIMEZONE:Europe/Berlin
X-MS-OLK-FORCEINSPECTOROPEN:TRUE
BEGIN:VTIMEZONE
TZID:Europe/Berlin
BEGIN:STANDARD
DTSTART:19701025T030000
TZOFFSETFROM:+0200
TZOFFSETTO:+0100
RRULE:FREQ=YEARLY;BYDAY=-1SU;BYMONTH=10
TZNAME:CET
END:STANDARD
BEGIN:DAYLIGHT
DTSTART:19700329T020000
TZOFFSETFROM:+0100
TZOFFSETTO:+0200
RRULE:FREQ=YEARLY;BYDAY=-1SU;BYMONTH=3
TZNAME:CEST
END:DAYLIGHT
END:VTIMEZONE
BEGIN:VEVENT
UID:20221010T183000-636472@evangelische-termine.de
DTSTAMP:20260419T142245Z
DESCRIPTION:\nKirchenkreis: überregional\nArt der Veranstaltung: Gruppen & 
 Kreise\nKurzbeschreibung / Untertitel: In Zweimal fünf Einheiten führt das
  Seminar durch ausgewählte Themen der Bibel\nAusführliche Beschreibung: Te
 il 1: Altes Testament\, Teil 2: Neues Testament. Der Kurs folgt keiner sta
 rren Planung\, sondern lässt viel Spielraum für Fragen und Austausch. \nTe
 il 1: 25\,– €\, Teil 2: 25\,– €\nMargit Büttner | Anmeldung mit Stichwort 
 „Kurzeinführung BB“\nFür Teil 1 bis 04.10.22 unter anmeldung@eeb-sued.de\,
  \nStichwort „Bibel-Basics Teil 1“\; \nfür Teil 2 bis 20.12.22 unter anmel
 dung@eeb-sued.de\, \nStichwort „Bibel-Basics Teil 2“.\nInternetadresse (ei
 gene Infos im Internet): http://www.eeb-sued.de\nFörderbereich: Religiöse 
 Bildung\, Religionen\, Theologie\, Ethik\, Grenzfragen\nReferent/in: Margi
 t Büttner\, Pfarrerin und Bildungsreferentin im eeb\nAnsprechpartner/in - 
 Leitung: Margit Büttner\nKosten: 25\,00 € (1. Teil) und 25\,00 € (2. Teil)
 \nZusatzinformationen: Anmeldungen für Teil 1 bis 04.10.22 \nunter anmeldu
 ng@eeb-sued.de\, Stichwort „Bibel-Basics Teil 1“\; \nfür Teil 2 bis 20.12.
 22 mit Stichwort „Bibel-Basics Teil 2“.\nKursnummer: 0002\nAnsprechpartner
 : Margit Büttner mbuettner@eeb-sued.de\nTelefon 06761/7018
DTSTART;TZID=Europe/Berlin:20221010T183000
DTEND;TZID=Europe/Berlin:20221010T203000
LOCATION:Internet: nur Internet
SUMMARY:Bibel-Basics“. Was ich schon immer wissen wollte :: Bibelkurs in zw
 ei Teilen
URL:https://termine.ekir.de/veranstaltung_im_detail636472.html
END:VEVENT
END:VCALENDAR
