BEGIN:VCALENDAR
VERSION:2.0
PRODID:-//evangelische-termine.de//NONSGML kigkonsult.se iCalcreator 2.18//
CALSCALE:GREGORIAN
METHOD:PUBLISH
X-WR-CALNAME:iCal Evangelische-Termine 19.04.2026
X-WR-CALDESC:iCalender von Evangelische-Termine (19.04.2026)
X-WR-TIMEZONE:Europe/Berlin
X-MS-OLK-FORCEINSPECTOROPEN:TRUE
BEGIN:VTIMEZONE
TZID:Europe/Berlin
BEGIN:STANDARD
DTSTART:19701025T030000
TZOFFSETFROM:+0200
TZOFFSETTO:+0100
RRULE:FREQ=YEARLY;BYDAY=-1SU;BYMONTH=10
TZNAME:CET
END:STANDARD
BEGIN:DAYLIGHT
DTSTART:19700329T020000
TZOFFSETFROM:+0100
TZOFFSETTO:+0200
RRULE:FREQ=YEARLY;BYDAY=-1SU;BYMONTH=3
TZNAME:CEST
END:DAYLIGHT
END:VTIMEZONE
BEGIN:VEVENT
UID:20221011T100000-637766@evangelische-termine.de
DTSTAMP:20260419T143409Z
DESCRIPTION:\nKirchenkreis: überregional\nArt der Veranstaltung: Fortbildun
 gen / Seminare / Vorträge\nVeranstaltungsort: Jakobuskapelle Koblenz\nAm A
 lten Hospital/Ecke Kastorhof\n56068 Koblenz\nKurzbeschreibung / Untertitel
 : Spirituelle Begegnungen mit und in der gotischen Jakobuskapelle in Koble
 nz\nAusführliche Beschreibung: Das Pilgern ist in allen Religionen ein Aus
 druck gelebter Spiritualität. Seit jeher und noch immer gibt es Menschen\,
  die sich zum Pilgern aufmachen. Was suchen sie? Was treibt sie an? \nWer 
 den Jakobsweg geht\, nur weil ihn die körperliche Herausforderung reizt\, 
 befindet sich wohl eher auf einer Wanderung. Pilgern setzt die Bereitschaf
 t voraus\, dass sich auch im Inneren etwas bewegt und bewegen darf. Erst d
 urch die innere Einstellung wird ein Weg zum Pilgerweg.\nDas Gehen\, das w
 ir Pilgern nennen\, ist untrennbar mit dem Heiligen Jakobus als dessen Sch
 utzpatron verbunden. Seinen Namen trägt die Koblenzer Jakobuskapelle am Ra
 nde der Altstadt. Sie war lange Zeit das Gotteshaus der Alt-Katholischen G
 emeinde\, bevor sie für das Gemeindeleben zu klein wurde. \nDie Führung ma
 cht uns bekannt mit der Geschichte der Kapelle\, mit dem Heiligen Jakobus 
 und dem mit ihm untrennbar verbundenen Pilgern als Sinnbild für den Lebens
 weg.\nInternetadresse (eigene Infos im Internet): http://www.eeb-sued.de\n
 Förderbereich: Religiöse Bildung\, Religionen\, Theologie\, Ethik\, Grenzf
 ragen\nReferent/in: Betina Thilmann-Marx\, Kirchenführerin\nAnsprechpartne
 r/in - Leitung: Margit Büttner\, Pfarrerin und Bildungsreferentin beim eeb
 \nKosten: 8\,00 €\nZusatzinformationen: bis 07.10.2022 bei anmeldung@eeb-s
 ued.de\nStichwort „Pilgern auf dem Lebensweg“\nAnsprechpartner: Margit Büt
 tner mbuettner@eeb-sued.de\nTelefon 06761/7018
DTSTART;TZID=Europe/Berlin:20221011T100000
DTEND;TZID=Europe/Berlin:20221011T120000
LOCATION:Koblenz: Jakobuskapelle Koblenz
SUMMARY:Pilgern auf dem Lebensweg :: Spirituelle Begegnungen mit und in der
  gotischen Jakobuskapelle in Koblenz
URL:https://termine.ekir.de/veranstaltung_im_detail637766.html
END:VEVENT
END:VCALENDAR
