BEGIN:VCALENDAR
VERSION:2.0
PRODID:-//evangelische-termine.de//NONSGML kigkonsult.se iCalcreator 2.18//
CALSCALE:GREGORIAN
METHOD:PUBLISH
X-WR-CALNAME:iCal Evangelische-Termine 19.04.2026
X-WR-CALDESC:iCalender von Evangelische-Termine (19.04.2026)
X-WR-TIMEZONE:Europe/Berlin
X-MS-OLK-FORCEINSPECTOROPEN:TRUE
BEGIN:VTIMEZONE
TZID:Europe/Berlin
BEGIN:STANDARD
DTSTART:19701025T030000
TZOFFSETFROM:+0200
TZOFFSETTO:+0100
RRULE:FREQ=YEARLY;BYDAY=-1SU;BYMONTH=10
TZNAME:CET
END:STANDARD
BEGIN:DAYLIGHT
DTSTART:19700329T020000
TZOFFSETFROM:+0100
TZOFFSETTO:+0200
RRULE:FREQ=YEARLY;BYDAY=-1SU;BYMONTH=3
TZNAME:CEST
END:DAYLIGHT
END:VTIMEZONE
BEGIN:VEVENT
UID:20221013T193000-637767@evangelische-termine.de
DTSTAMP:20260419T143342Z
DESCRIPTION:\nKirchenkreis: überregional\nArt der Veranstaltung: Fortbildun
 gen / Seminare / Vorträge\nVeranstaltungsort: Ev. Gemeindehaus an der Mark
 tkirche\nPfarrer-Werner-Mörchen-Str. 1\n56567 Neuwied\nKurzbeschreibung / 
 Untertitel: Fragen rund um das Ende des Lebens mit Sterben\, Tod und Beerd
 igung werden mithilfe einer Theologin und eines Bestatters sensibel beleuc
 htet.\nAusführliche Beschreibung: Menschen gestalten seit jeher in allen K
 ulturen den Übergang vom Leben in den Tod. Dabei sind die Bestattungsforme
 n und Friedhöfe immer auch wie ein Spiegelbild der jeweiligen Kultur und G
 esellschaft. Wie wird über den Menschen und wie wird über Sterben und Tod 
 gedacht? Welche Regeln haben sich unter den Lebenden im Umgang mit ihren T
 oten herausgebildet?\nMit Hilfe einer Theologin und eines Bestatters wagen
  wir einen Blick auch in die gegenwärtige Bestattungskultur. Die verschied
 enen religiösen und geschichtlichen Hintergründe können helfen\, Fragen ru
 nd um das Ende des Lebens mit Sterben\, Tod und Beerdigung sensibel zu bel
 euchten: Was wünschen sich Sterbende für ihre Beerdigung? Welche Bedürfnis
 se haben die Hinterbliebenen? Wie kommen wir schon zu Lebzeiten darüber in
 s Gespräch?\nInternetadresse (eigene Infos im Internet): http://www.eeb-su
 ed.de\nFörderbereich: Lebensgestaltende Bildung\, Existenzfragen\, einschl
 ießlich der Bereiche der soz. u.. interkulturellen Beziehungen\nReferent/i
 n: Kirsten Arnswald\, Pfarrerin\, Leiterin eeb\nTilmann Raithelhuber\, Pfa
 rrer\nThrosten Ecker\, Bestattermeister\nAnsprechpartner/in - Leitung: Kir
 sten Arnswald\, Pfarrerin\, Leiterin eeb\nKosten: keine\nZusatzinformation
 en: anmeldung@eeb-sued.de
DTSTART;TZID=Europe/Berlin:20221013T193000
DTEND;TZID=Europe/Berlin:20221013T210000
LOCATION:Neuwied: Ev. Gemeindehaus an der Marktkirche
SUMMARY:Dere Tod gehört zum Leben! – Aber wie möchte ich beerdigt werden ::
  Fragen rund um das Ende des Lebens mit Sterben\, Tod und Beerdigung werde
 n mithilfe einer Theologin und eines Bestatters sensibel beleuchtet.
URL:https://termine.ekir.de/veranstaltung_im_detail637767.html
END:VEVENT
END:VCALENDAR
