BEGIN:VCALENDAR
VERSION:2.0
PRODID:-//evangelische-termine.de//NONSGML kigkonsult.se iCalcreator 2.18//
CALSCALE:GREGORIAN
METHOD:PUBLISH
X-WR-CALNAME:iCal Evangelische-Termine 19.04.2026
X-WR-CALDESC:iCalender von Evangelische-Termine (19.04.2026)
X-WR-TIMEZONE:Europe/Berlin
X-MS-OLK-FORCEINSPECTOROPEN:TRUE
BEGIN:VTIMEZONE
TZID:Europe/Berlin
BEGIN:STANDARD
DTSTART:19701025T030000
TZOFFSETFROM:+0200
TZOFFSETTO:+0100
RRULE:FREQ=YEARLY;BYDAY=-1SU;BYMONTH=10
TZNAME:CET
END:STANDARD
BEGIN:DAYLIGHT
DTSTART:19700329T020000
TZOFFSETFROM:+0100
TZOFFSETTO:+0200
RRULE:FREQ=YEARLY;BYDAY=-1SU;BYMONTH=3
TZNAME:CEST
END:DAYLIGHT
END:VTIMEZONE
BEGIN:VEVENT
UID:20221018T163000-637768@evangelische-termine.de
DTSTAMP:20260419T143409Z
DESCRIPTION:\nKirchenkreis: überregional\nArt der Veranstaltung: Fortbildun
 gen / Seminare / Vorträge\nVeranstaltungsort: Ev. Kirchenkreis Koblenz\, S
 uperintendentur\nMainzer Str. 81\n56075 Koblenz\nKurzbeschreibung / Untert
 itel: Infoveranstaltung zu Patientenverfügung\, Betreuungsverfügung\, Vors
 orgevollmacht\nAusführliche Beschreibung: Vorsorgevollmacht\, Betreuungsve
 rfügung\, Patientenverfügung – jeder hat die Begriffe schon einmal gehört.
  Aber was ist darunter genau zu verstehen?\nWas brauche ich zur Vorsorge i
 n meiner persönlichen Situation\, in der ich gerade lebe?\n\nFragen\, die 
 in dieser Informationsveranstaltung erörtert werden sollen. \nDie Veransta
 ltung richtet sich an alle interessierten Personen.\nInternetadresse (eige
 ne Infos im Internet): http://www.eeb-sued.de\nFörderbereich: Gesellschaft
 \, Politik und Wirtschaft\nReferent/in: Thomas Denn\, Dipl. Sozialpädagoge
  (FH) und als Betreuer tätig\nAnsprechpartner/in - Leitung: Thomas Denn\nK
 osten: keine\nZusatzinformationen: Tel. 0261 988 570 20\, tdenn@kirchenkre
 is-koblenz.de\nAnsprechpartner: Thomas Denn tdenn@kirchenkreis-koblenz.de
 \nTel. 0261 988 570 20
DTSTART;TZID=Europe/Berlin:20221018T163000
DTEND;TZID=Europe/Berlin:20221018T180000
LOCATION:Koblenz: Ev. Kirchenkreis Koblenz\, Superintendentur
SUMMARY:Informationsveranstaltung Vorsorgende Verfügungen :: Infoveranstalt
 ung zu Patientenverfügung\, Betreuungsverfügung\, Vorsorgevollmacht
URL:https://termine.ekir.de/veranstaltung_im_detail637768.html
END:VEVENT
END:VCALENDAR
