BEGIN:VCALENDAR
VERSION:2.0
PRODID:-//evangelische-termine.de//NONSGML kigkonsult.se iCalcreator 2.18//
CALSCALE:GREGORIAN
METHOD:PUBLISH
X-WR-CALNAME:iCal Evangelische-Termine 19.04.2026
X-WR-CALDESC:iCalender von Evangelische-Termine (19.04.2026)
X-WR-TIMEZONE:Europe/Berlin
X-MS-OLK-FORCEINSPECTOROPEN:TRUE
BEGIN:VTIMEZONE
TZID:Europe/Berlin
BEGIN:STANDARD
DTSTART:19701025T030000
TZOFFSETFROM:+0200
TZOFFSETTO:+0100
RRULE:FREQ=YEARLY;BYDAY=-1SU;BYMONTH=10
TZNAME:CET
END:STANDARD
BEGIN:DAYLIGHT
DTSTART:19700329T020000
TZOFFSETFROM:+0100
TZOFFSETTO:+0200
RRULE:FREQ=YEARLY;BYDAY=-1SU;BYMONTH=3
TZNAME:CEST
END:DAYLIGHT
END:VTIMEZONE
BEGIN:VEVENT
UID:20221102T100000-637769@evangelische-termine.de
DTSTAMP:20260419T142332Z
DESCRIPTION:\nKirchenkreis: überregional\nArt der Veranstaltung: Fortbildun
 gen / Seminare / Vorträge\nVeranstaltungsort: Ev. Gemeindehaus Koblenz-Are
 nberg\nIm Flürchen 16\n56077 Koblenz-Arenberg\nKurzbeschreibung / Untertit
 el: Denkanstöße von Virginia Woolf\nAusführliche Beschreibung: Für die eng
 lische Schriftstellerin (1882-1941) ist das „eigene Zimmer“ eine Vorausset
 zung für die Entwicklung der Persönlichkeit. Wie haben sich Wohn- und Lebe
 nsbedingungen von Frauen entwickelt?\n\nVor einhundert Jahren waren Selbst
 ständigkeit und finanzielle Unabhängigkeit für Frauen noch ein fernes Ziel
 . Durch eine unerwartete Erbschaft in diese komfortable Lage gelangt\, set
 zte sich die englische Schriftstellerin Virginia Woolf (1882-1941) mit den
  Lebensbedingungen der Frauen ihrer Zeit auseinander. Kaum eine besaß eige
 nes Einkommen\, kaum eine einen persönlichen Rückzugsraum. Für Virginia Wo
 olf ist aber gerade das „eigene Zimmer“ eine Voraussetzung für die Entwick
 lung der Persönlichkeit.\n\nMit den Denkanstößen von damals schauen wir au
 f unsere eigenen Erfahrungen und in die Gegenwart. Wie haben sich Wohn- un
 d Lebensbedingen von Frauen verändert\, und wie erleben wir die Generation
  unserer Töchter und Enkelinnen?\nInternetadresse (eigene Infos im Interne
 t): http://www.eeb-sued.de\nFörderbereich: Lebensformen\, Partnerschaft\, 
 Ehe\, Familie\nReferent/in: Margit Büttner\, Bildungsreferentin eeb\nAnspr
 echpartner/in - Leitung: Margit Büttner\, Bildungsreferentin eeb\nKosten: 
 keine\nZusatzinformationen: Keine Anmeldung erforderlich!\nAnsprechpartner
 : Margit Büttner mbuettner@eeb-sued.de\nTelefon 06761/7018
DTSTART;TZID=Europe/Berlin:20221102T100000
DTEND;TZID=Europe/Berlin:20221102T120000
LOCATION:Koblenz-Arenberg: Ev. Gemeindehaus Koblenz-Arenberg
SUMMARY:Ein Zimmer für sich allein :: Denkanstöße von Virginia Woolf
URL:https://termine.ekir.de/veranstaltung_im_detail637769.html
END:VEVENT
END:VCALENDAR
