BEGIN:VCALENDAR
VERSION:2.0
PRODID:-//evangelische-termine.de//NONSGML kigkonsult.se iCalcreator 2.18//
CALSCALE:GREGORIAN
METHOD:PUBLISH
X-WR-CALNAME:iCal Evangelische-Termine 19.04.2026
X-WR-CALDESC:iCalender von Evangelische-Termine (19.04.2026)
X-WR-TIMEZONE:Europe/Berlin
X-MS-OLK-FORCEINSPECTOROPEN:TRUE
BEGIN:VTIMEZONE
TZID:Europe/Berlin
BEGIN:STANDARD
DTSTART:19701025T030000
TZOFFSETFROM:+0200
TZOFFSETTO:+0100
RRULE:FREQ=YEARLY;BYDAY=-1SU;BYMONTH=10
TZNAME:CET
END:STANDARD
BEGIN:DAYLIGHT
DTSTART:19700329T020000
TZOFFSETFROM:+0100
TZOFFSETTO:+0200
RRULE:FREQ=YEARLY;BYDAY=-1SU;BYMONTH=3
TZNAME:CEST
END:DAYLIGHT
END:VTIMEZONE
BEGIN:VEVENT
UID:20221105T100000-637828@evangelische-termine.de
DTSTAMP:20260419T142333Z
DESCRIPTION:\nKirchenkreis: überregional\nArt der Veranstaltung: Fortbildun
 gen / Seminare / Vorträge\nVeranstaltungsort: Stadtbücherei Kirn\nWilhem-D
 röscher-Platz 1\n55606 Kirn\nKurzbeschreibung / Untertitel: Der Bücherstec
 kbrief – Total Digital\nAusführliche Beschreibung: Mit dem „Bücher-Steckbr
 ief“ lassen sich Jugendliche im Alter von 10 bis 13 Jahren der Klassenstuf
 en 4/5/6 spielerisch für das Eintauchen in Geschichten und das Lesen von B
 üchern begeistern. \nJugendliche neugierig auf Bücher machen. Bibliotheken
  attraktiver gestalten. \n\nBüchereien sind nicht voll von verstaubten Büc
 hern\, sondern voller Ideen und Abenteuer.\nDie Referentinnen haben im Rah
 men von „Medienkomp@ss RLP in Bibliotheken“ ein digitales Konzept für die 
 Aktion „Büchersteckbrief – Total Digital“ entwickelt und mit Schulklassen 
 unterschiedlicher Schulformen erfolgreich durchgeführt. \n>	Was sind die Vo
 rteile? \n>	Welche Tools eignen sich? \n>	Was ist bei der Umsetzung zu beach
 ten? \nDie Teilnehmerinnen und Teilnehmer können selbst aktiv werden und d
 en Büchersteckbrief mit den Tablets in Kleingruppen ausprobieren.\nIm Work
 shop werden verschiedene Methoden der Durchführung vorgestellt und Ideen z
 ur kreativen Selbstgestaltung eines eigenen Büchersteckbriefs nach Wunscht
 hema präsentiert.\n\nZielgruppen sind Büchereimitarbeitende\, Lehrerinnen 
 und Lehrer und Interessierte.\n\nKeine Tablets in der Bücherei vorhanden? 
 Kein Problem. Mit dem Ausleihangebot des Landesbibliothekszentrums Rheinla
 nd-Pfalz können Tabletkoffer und die Themenkiste Büchersteckbrief\, die al
 le nötigen Materialien zur Durchführung beinhaltet\, ausgeliehen werden. A
 uch zum kompletten Leihangebot des LBZ für Büchereien und den Ablauf von B
 estellung und Lieferung informieren die Referentinnen im Rahmen der Fortbi
 ldung.\nInternetadresse (eigene Infos im Internet): http://www.eeb-sued.de
 \nFörderbereich: Technik\, Technologien\, Medien\nReferent/in: Karin von P
 rónay\nKerstin Weis\nAnsprechpartner/in - Leitung: Helena Schäuble\nKosten
 : 40\,00 € ohne Verpflegung\nZusatzinformationen: Anmeldung bis 24.02.23 
 \nunter anmeldung@eeb-sued.de\nStichwort „Büchersteckbrief“\n: \nAnsprechp
 artner: Helena Schäuble anmeldung@eeb-sued.de\nTelefon 06761/7018\nwww.eeb
 -sued.de
DTSTART;TZID=Europe/Berlin:20221105T100000
DTEND;TZID=Europe/Berlin:20221105T160000
LOCATION:Kirn: Stadtbücherei Kirn
SUMMARY:Der Büchersteckbrief – Total Digital :: Präsenz Workshop
URL:https://termine.ekir.de/veranstaltung_im_detail637828.html
END:VEVENT
END:VCALENDAR
