BEGIN:VCALENDAR
VERSION:2.0
PRODID:-//evangelische-termine.de//NONSGML kigkonsult.se iCalcreator 2.18//
CALSCALE:GREGORIAN
METHOD:PUBLISH
X-WR-CALNAME:iCal Evangelische-Termine 19.04.2026
X-WR-CALDESC:iCalender von Evangelische-Termine (19.04.2026)
X-WR-TIMEZONE:Europe/Berlin
X-MS-OLK-FORCEINSPECTOROPEN:TRUE
BEGIN:VTIMEZONE
TZID:Europe/Berlin
BEGIN:STANDARD
DTSTART:19701025T030000
TZOFFSETFROM:+0200
TZOFFSETTO:+0100
RRULE:FREQ=YEARLY;BYDAY=-1SU;BYMONTH=10
TZNAME:CET
END:STANDARD
BEGIN:DAYLIGHT
DTSTART:19700329T020000
TZOFFSETFROM:+0100
TZOFFSETTO:+0200
RRULE:FREQ=YEARLY;BYDAY=-1SU;BYMONTH=3
TZNAME:CEST
END:DAYLIGHT
END:VTIMEZONE
BEGIN:VEVENT
UID:20221108T100000-637833@evangelische-termine.de
DTSTAMP:20260419T143342Z
DESCRIPTION:\nKirchenkreis: überregional\nArt der Veranstaltung: Fortbildun
 gen / Seminare / Vorträge\nKurzbeschreibung / Untertitel: Leben und Wirkun
 g des bedeutenden Reformators Johannes Calvin –  der Begründer der reformi
 erten Konfession\nAusführliche Beschreibung: Der Genfer Reformator Johanne
 s Calvin gilt\nals der Begründer der reformierten Konfession.\nSeine Beton
 ung der Heiligung und der Kirchenzucht sowie die Meinungsverschiedenheiten
  mit Martin Luther z.B. über die Abendmahlsfrage führten zu manchen harten
  Auseinandersetzungen in seiner Zeit und darüber hinaus. Er war aber auch 
 ein brillanter Theologe und Schriftsteller\, er verfasste die erste evange
 lische Dogmatik und die Genfer Kirchenordnung. Das Amt der Kirchenältesten
  (Presbyter) hatte er in die Kirchenordnung eingebracht\, eine Neuerung im
  16. Jahrhundert\, die sich bis in unsere heutige Kirchenordnung auswirkt.
 \nCalvin hat in Deutschland und der Ev. Kirche im Rheinland deutlich seine
  Spuren hinterlassen. Da lohnt sich ein Gang zu den Wurzeln des reformiert
 en Glaubens und seines Begründers\, der oft genug im Schatten von Martin L
 uther steht.\nInternetadresse (eigene Infos im Internet): http://www.eeb-s
 ued.de\nFörderbereich: Religiöse Bildung\, Religionen\, Theologie\, Ethik\
 , Grenzfragen\nReferent/in: Kirsten Arnswald\, Pfarrerin\, Leiterin des ee
 b\nAnsprechpartner/in - Leitung: Kirsten Arnswald\, Pfarrerin\, Leiterin d
 es eeb\nKosten: keine\nZusatzinformationen: Anmeldung bis 05.11.2022 unter
  anmeldung@eeb-sued.de \nmit Stichwort „Calvin“ \nNach Anmeldung erhalten 
 Sie einen Zugangslink per Mail.\nAnsprechpartner: Kirsten Arnswald karnswa
 ld@eeb-sued.de\n06761/7019
DTSTART;TZID=Europe/Berlin:20221108T100000
DTEND;TZID=Europe/Berlin:20221108T120000
LOCATION:Internet: nur Internet
SUMMARY:Der Reformator Johannes Calvin :: Leben und Wirkung des bedeutenden
  Reformators Johannes Calvin –  der Begründer der reformierten Konfession
URL:https://termine.ekir.de/veranstaltung_im_detail637833.html
END:VEVENT
END:VCALENDAR
