BEGIN:VCALENDAR
VERSION:2.0
PRODID:-//evangelische-termine.de//NONSGML kigkonsult.se iCalcreator 2.18//
CALSCALE:GREGORIAN
METHOD:PUBLISH
X-WR-CALNAME:iCal Evangelische-Termine 19.04.2026
X-WR-CALDESC:iCalender von Evangelische-Termine (19.04.2026)
X-WR-TIMEZONE:Europe/Berlin
X-MS-OLK-FORCEINSPECTOROPEN:TRUE
BEGIN:VTIMEZONE
TZID:Europe/Berlin
BEGIN:STANDARD
DTSTART:19701025T030000
TZOFFSETFROM:+0200
TZOFFSETTO:+0100
RRULE:FREQ=YEARLY;BYDAY=-1SU;BYMONTH=10
TZNAME:CET
END:STANDARD
BEGIN:DAYLIGHT
DTSTART:19700329T020000
TZOFFSETFROM:+0100
TZOFFSETTO:+0200
RRULE:FREQ=YEARLY;BYDAY=-1SU;BYMONTH=3
TZNAME:CEST
END:DAYLIGHT
END:VTIMEZONE
BEGIN:VEVENT
UID:20221109T090000-637836@evangelische-termine.de
DTSTAMP:20260419T142332Z
DESCRIPTION:\nKirchenkreis: überregional\nArt der Veranstaltung: Fortbildun
 gen / Seminare / Vorträge\nKurzbeschreibung / Untertitel: Vertiefender Übe
 rblick über die Funktionen und Nutzungsmöglichkeiten der Datenbank\nAusfüh
 rliche Beschreibung: In diesem Online-Seminar erhalten Sie weiterführende 
 Hinweise zu den einzelnen \nFunktionen und Module der Meldewesendatenbank 
 Mewis-NT. Neben Tipps und Tricks wird auch der kollegiale Austausch eine w
 ichtige Rolle spielen.\nInternetadresse (eigene Infos im Internet): http:/
 /www.eeb-sued.de\nFörderbereich: Technik\, Technologien\, Medien\nReferent
 /in: Kirsten Arnswald\, Pfarrerin\, Leiterin des eeb\nAnsprechpartner/in -
  Leitung: Kirsten Arnswald\, Pfarrerin\, Leiterin des eeb\nKosten: 50\,00 
 €\nZusatzinformationen: Anmeldung bis 02.11.2022 unter anmeldung@eeb-sued.
 de\,\nStichwort „Mewis für Fortgeschrittene“ \nNach Anmeldeschluss erhalte
 n Sie einen Zugangslink per Mail.\nAnsprechpartner: Kirsten Arnswald karns
 wald@eeb-sued.de\n06761/7019
DTSTART;TZID=Europe/Berlin:20221109T090000
DTEND;TZID=Europe/Berlin:20221109T130000
LOCATION:Internet: nur Internet
SUMMARY:MEWIS-NT für Fortgeschrittene :: Vertiefender Überblick über die Fu
 nktionen und Nutzungsmöglichkeiten der Datenbank
URL:https://termine.ekir.de/veranstaltung_im_detail637836.html
END:VEVENT
END:VCALENDAR
