BEGIN:VCALENDAR
VERSION:2.0
PRODID:-//evangelische-termine.de//NONSGML kigkonsult.se iCalcreator 2.18//
CALSCALE:GREGORIAN
METHOD:PUBLISH
X-WR-CALNAME:iCal Evangelische-Termine 19.04.2026
X-WR-CALDESC:iCalender von Evangelische-Termine (19.04.2026)
X-WR-TIMEZONE:Europe/Berlin
X-MS-OLK-FORCEINSPECTOROPEN:TRUE
BEGIN:VTIMEZONE
TZID:Europe/Berlin
BEGIN:STANDARD
DTSTART:19701025T030000
TZOFFSETFROM:+0200
TZOFFSETTO:+0100
RRULE:FREQ=YEARLY;BYDAY=-1SU;BYMONTH=10
TZNAME:CET
END:STANDARD
BEGIN:DAYLIGHT
DTSTART:19700329T020000
TZOFFSETFROM:+0100
TZOFFSETTO:+0200
RRULE:FREQ=YEARLY;BYDAY=-1SU;BYMONTH=3
TZNAME:CEST
END:DAYLIGHT
END:VTIMEZONE
BEGIN:VEVENT
UID:20221115T090000-640717@evangelische-termine.de
DTSTAMP:20260419T143410Z
DESCRIPTION:\nKirchenkreis: überregional\nArt der Veranstaltung: Fortbildun
 gen / Seminare / Vorträge\nKurzbeschreibung / Untertitel: Einführung in di
 e Erstellung von Serienbriefen mit einer Datenquelle aus Excel\nAusführlic
 he Beschreibung: Mit Computerprogrammen lassen sich Routinearbeiten im gem
 eindlichen Verwaltungsbereich\nvereinfacht durchführen und ansehnlich gest
 alten.\nIn einem Online-Seminar soll gezeigt und ausprobiert werden\, wie 
 Sie Serienbriefe\, Umschläge\nund Etiketten in Word einfach und schnell er
 stellen können. Filtern und sortieren Sie\nDatensätze\, z. B. um nur Brief
 e für bestimmte Empfänger zu erstellen. Erfahren Sie\, wie Sie\nIhre beste
 hende Datenquelle für Serienbriefe nutzbar machen. Außerdem erhalten Sie n
 ützliche\nTipps zum Arbeiten mit Excel.\nDiese EDV-Schulung ist offen für 
 alle Interessierten\, die Serienbriefe gestalten wollen und\ninsbesondere 
 für MitarbeiterInnen in (kirchengemeindlichen) Verwaltungsbereichen gedach
 t.\nInternetadresse (eigene Infos im Internet): http://www.eeb-sued.de\nFö
 rderbereich: Arbeitswelt- und berufsbezogene Weiterbildung\nReferent/in: K
 irsten Arnswald\, Pfarrerin und Leiterin des eeb\nAnsprechpartner/in - Lei
 tung: Kirsten Arnswald\nKosten: 50\,00 €\nZusatzinformationen: Anmeldung b
 is 14.03.2022 unter anmeldung@eeb-sued.de\nStichwort Betreff „Serienbrief“
 .\nNach Anmeldeschluss erhalten Sie einen Zugangslink per Mail.\n: \nAnspr
 echpartner: Kirsten Arnswald karnswald@eeb-sued.de\n06761/7019
DTSTART;TZID=Europe/Berlin:20221115T090000
DTEND;TZID=Europe/Berlin:20221115T130000
LOCATION:Internet: nur Internet
SUMMARY:Serienbrief mit MS-Word und Excel :: Einführung in die Erstellung v
 on Serienbriefen mit einer Datenquelle aus Excel
URL:https://termine.ekir.de/veranstaltung_im_detail640717.html
END:VEVENT
END:VCALENDAR
