BEGIN:VCALENDAR
VERSION:2.0
PRODID:-//evangelische-termine.de//NONSGML kigkonsult.se iCalcreator 2.18//
CALSCALE:GREGORIAN
METHOD:PUBLISH
X-WR-CALNAME:iCal Evangelische-Termine 19.04.2026
X-WR-CALDESC:iCalender von Evangelische-Termine (19.04.2026)
X-WR-TIMEZONE:Europe/Berlin
X-MS-OLK-FORCEINSPECTOROPEN:TRUE
BEGIN:VTIMEZONE
TZID:Europe/Berlin
BEGIN:STANDARD
DTSTART:19701025T030000
TZOFFSETFROM:+0200
TZOFFSETTO:+0100
RRULE:FREQ=YEARLY;BYDAY=-1SU;BYMONTH=10
TZNAME:CET
END:STANDARD
BEGIN:DAYLIGHT
DTSTART:19700329T020000
TZOFFSETFROM:+0100
TZOFFSETTO:+0200
RRULE:FREQ=YEARLY;BYDAY=-1SU;BYMONTH=3
TZNAME:CEST
END:DAYLIGHT
END:VTIMEZONE
BEGIN:VEVENT
UID:20221121T193000-640718@evangelische-termine.de
DTSTAMP:20260419T142332Z
DESCRIPTION:\nKirchenkreis: überregional\nArt der Veranstaltung: Fortbildun
 gen / Seminare / Vorträge\nVeranstaltungsort: Ev. Gemeindehaus Sinzig\nDre
 ifaltigkeitsweg 24\n53489 Sinzig\nKurzbeschreibung / Untertitel: Der Vortr
 ag mit Gesprächsimpulsen verbindet Wissenswertes über die Bedeutung von Vo
 rbildern und die Einladung\, ihre Kraft im eigenen Leben wieder zu erkenne
 n.\nAusführliche Beschreibung: Helden\, Heilige\, Idole\, Leitbild – jede 
 von uns erinnert sich an Personen\, die wir bewundert\nhaben oder die wegw
 eisend für unser Leben waren. Manchmal waren es auch nur fiktive\nFiguren 
 aus Literatur oder Film. Aus irgendeinem Grund haben sie uns fasziniert. S
 ie weckten\nin uns Wünsche\, gaben Orientierung oder halfen uns dabei\, un
 seren Platz im Leben zu\nfinden.\nWelche Vorbilder haben auf unserem Leben
 sweg Spuren hinterlassen? Was davon ist noch\nheute in unserem Leben wirks
 am?\nInternetadresse (eigene Infos im Internet): http://www.eeb-sued.de\nF
 örderbereich: Lebensgestaltende Bildung\, Existenzfragen\, einschließlich 
 der Bereiche der soz. u.. interkulturellen Beziehungen\nReferent/in: Margi
 t Büttner\, Pfarrerin und Bildungsreferentin im eeb\nAnsprechpartner/in - 
 Leitung: Margit Büttner\nZusatzinformationen: Anmeldung bis 14.11.2022 an 
 anmeldung@eeb-sued.de\nAnsprechpartner: Margit Büttner mbuettner@eeb-sued.
 de\nTelefon 06761/7018
DTSTART;TZID=Europe/Berlin:20221121T193000
DTEND;TZID=Europe/Berlin:20221121T210000
LOCATION:Sinzig: Ev. Gemeindehaus Sinzig
SUMMARY:Die Kraft meiner Vorbilder
URL:https://termine.ekir.de/veranstaltung_im_detail640718.html
END:VEVENT
END:VCALENDAR
