BEGIN:VCALENDAR
VERSION:2.0
PRODID:-//evangelische-termine.de//NONSGML kigkonsult.se iCalcreator 2.18//
CALSCALE:GREGORIAN
METHOD:PUBLISH
X-WR-CALNAME:iCal Evangelische-Termine 19.04.2026
X-WR-CALDESC:iCalender von Evangelische-Termine (19.04.2026)
X-WR-TIMEZONE:Europe/Berlin
X-MS-OLK-FORCEINSPECTOROPEN:TRUE
BEGIN:VTIMEZONE
TZID:Europe/Berlin
BEGIN:STANDARD
DTSTART:19701025T030000
TZOFFSETFROM:+0200
TZOFFSETTO:+0100
RRULE:FREQ=YEARLY;BYDAY=-1SU;BYMONTH=10
TZNAME:CET
END:STANDARD
BEGIN:DAYLIGHT
DTSTART:19700329T020000
TZOFFSETFROM:+0100
TZOFFSETTO:+0200
RRULE:FREQ=YEARLY;BYDAY=-1SU;BYMONTH=3
TZNAME:CEST
END:DAYLIGHT
END:VTIMEZONE
BEGIN:VEVENT
UID:20230227T100000-644554@evangelische-termine.de
DTSTAMP:20260419T160849Z
DESCRIPTION:\nKirchenkreis: überregional\nArt der Veranstaltung: Fortbildun
 gen / Seminare / Vorträge\nKurzbeschreibung / Untertitel: Weiterführende V
 ertiefungen in die Funktionen und Module des EKiR-Portals.\nAusführliche B
 eschreibung: Die einführenden Veranstaltungen zum EkiR-Portal haben deutli
 che gemacht wie viele Funktionsmöglichkeiten diese Plattform bietet. Daher
  bieten wir im nächsten Schritt weiterführende Einblicke und geben die Mög
 lichkeit Fragen zum Portal direkt anzusprechen.\nDie Toolsammlung des EkiR
 -Portals wird zudem immer noch ergänzt und die bestehenden Elemente z.T. e
 rweitert.\n\nFür die Nutzung und das seminarbegleitende Ausprobieren ist e
 in Zugang zum EKiR-Portal notwendig.\nInternetadresse (eigene Infos im Int
 ernet): http://www.eeb-sued.de\nFörderbereich: Arbeitswelt- und berufsbezo
 gene Weiterbildung\nReferent/in: Kirsten Arnswald\nAnsprechpartner/in - Le
 itung: Kirsten Arnswald\nKosten: 35\,00 €\nZusatzinformationen: Anmeldung 
 bis jeweils eine Woche vor Beginn unter anmeldung@eeb-sued.de\, Stichwort 
 „EKiR-Portal“ und das gewünschte Datum. \nNach Anmeldeschluss erhalten Sie
  einen Zugangslink per Mail.\n: \nAnsprechpartner: Kirsten Arnswald karnsw
 ald@eeb-sued.de\n06761/7019
DTSTART;TZID=Europe/Berlin:20230227T100000
DTEND;TZID=Europe/Berlin:20230227T120000
LOCATION:Internet: nur Internet
SUMMARY:EKiR-Portal Vertiefung :: Weiterführende Vertiefungen in die Funkti
 onen und Module des EKiR-Portals. 
URL:https://termine.ekir.de/veranstaltung_im_detail644554.html
END:VEVENT
END:VCALENDAR
