BEGIN:VCALENDAR
VERSION:2.0
PRODID:-//evangelische-termine.de//NONSGML kigkonsult.se iCalcreator 2.18//
CALSCALE:GREGORIAN
METHOD:PUBLISH
X-WR-CALNAME:iCal Evangelische-Termine 20.04.2026
X-WR-CALDESC:iCalender von Evangelische-Termine (20.04.2026)
X-WR-TIMEZONE:Europe/Berlin
X-MS-OLK-FORCEINSPECTOROPEN:TRUE
BEGIN:VTIMEZONE
TZID:Europe/Berlin
BEGIN:STANDARD
DTSTART:19701025T030000
TZOFFSETFROM:+0200
TZOFFSETTO:+0100
RRULE:FREQ=YEARLY;BYDAY=-1SU;BYMONTH=10
TZNAME:CET
END:STANDARD
BEGIN:DAYLIGHT
DTSTART:19700329T020000
TZOFFSETFROM:+0100
TZOFFSETTO:+0200
RRULE:FREQ=YEARLY;BYDAY=-1SU;BYMONTH=3
TZNAME:CEST
END:DAYLIGHT
END:VTIMEZONE
BEGIN:VEVENT
UID:20241114T090000-644559@evangelische-termine.de
DTSTAMP:20260419T225933Z
DESCRIPTION:\nKirchenkreis: überregional\nArt der Veranstaltung: Fortbildun
 gen / Seminare / Vorträge\nVeranstaltungsort: online\n- -\nKurzbeschreibun
 g / Untertitel: Einführung in der Funktionen von MS-Excel\nAusführliche Be
 schreibung: Das Microsoft-Office – Programm Excel kann dazu beitragen\, Bü
 roarbeiten zu vereinfachen und zu beschleunigen. Als Tabellenkalkulationsp
 rogramm\, ist es vor allem für Berechnungen sehr hilfreich. Es kann Tabell
 en übersichtlicher darstellen\, als Schreibprogramme und daraus anschaulic
 he Grafiken erstellen. Außerdem können darin erstellte Adressdateien für d
 en Seriendruck verwendet werden.\nIn diesem Seminar werden Grundfunktionen
  von Excel erläutert\, die nicht nur für Verwaltungstätigkeiten sondern au
 ch für alltägliche Aufgaben interessant und von Nutzen sein können.\nVorau
 ssetzung ist der einigermaßen sichere Umgang mit Maus und Tastatur sowie G
 rundkenntnisse im Umgang mit dem Betriebssystem Windows.\nFörderbereich: A
 rbeitswelt- und berufsbezogene Weiterbildung\nReferent/in: Kirsten Arnswal
 d\nAnsprechpartner/in - Leitung: Kirsten Arnswald\nKosten: 50\,00 €\nZusat
 zinformationen: Anmeldung bis 7.11.2024\n: \nAnsprechpartner: Kirsten Arns
 wald karnswald@eeb-sued.de\n06761/7019
DTSTART;TZID=Europe/Berlin:20241114T090000
DTEND;TZID=Europe/Berlin:20241114T130000
LOCATION:-: online
SUMMARY:MS-Excel für Einsteiger :: Einführung in die Funktionen von MS-Exce
 l
URL:https://termine.ekir.de/veranstaltung_im_detail644559.html
END:VEVENT
END:VCALENDAR
