BEGIN:VCALENDAR
VERSION:2.0
PRODID:-//evangelische-termine.de//NONSGML kigkonsult.se iCalcreator 2.18//
CALSCALE:GREGORIAN
METHOD:PUBLISH
X-WR-CALNAME:iCal Evangelische-Termine 21.04.2026
X-WR-CALDESC:iCalender von Evangelische-Termine (21.04.2026)
X-WR-TIMEZONE:Europe/Berlin
X-MS-OLK-FORCEINSPECTOROPEN:TRUE
BEGIN:VTIMEZONE
TZID:Europe/Berlin
BEGIN:STANDARD
DTSTART:19701025T030000
TZOFFSETFROM:+0200
TZOFFSETTO:+0100
RRULE:FREQ=YEARLY;BYDAY=-1SU;BYMONTH=10
TZNAME:CET
END:STANDARD
BEGIN:DAYLIGHT
DTSTART:19700329T020000
TZOFFSETFROM:+0100
TZOFFSETTO:+0200
RRULE:FREQ=YEARLY;BYDAY=-1SU;BYMONTH=3
TZNAME:CEST
END:DAYLIGHT
END:VTIMEZONE
BEGIN:VEVENT
UID:20230202T143000-655218@evangelische-termine.de
DTSTAMP:20260421T125334Z
DESCRIPTION:\nKirchenkreis: Koblenz\nArt der Veranstaltung: Fortbildungen /
  Seminare / Vorträge\nVeranstaltungsort: Ev. Gemeindehaus Sinzig\nDreifalt
 igkeitsweg 26\n53489 Sinzig\nKurzbeschreibung / Untertitel: Warum sind Kir
 chen anders als alle anderen Räume? Woher kommt ihre besondere Ausstrahlun
 g? Was bedeuten Ihnen die Gotteshäuser\, die Kirchen\, Ihre Kirche?\nAusfü
 hrliche Beschreibung: Wir haben in unsrem Leben schon viele Kirchen gesehe
 n. Keine gleicht der anderen. Jede ist auf ihre Art besonders. Jede ist ei
 n Glaubenszeugnis ihrer Zeit. Und jede Kirche\, die wir besuchen\, geht mi
 t uns in einen Dialog. Sie sagt: schön\, dass du da bist. Lass Dich auf mi
 ch ein. Wir nehmen Geräusche wahr\, wir sehen Bilder\, wir fühlen Material
 ien\, Holz Steine\, Glas... wir fühlen uns wohl und geborgen oder befremde
 t und irritiert. Kirchen sind vertraut und fremd zugleich.\nAber warum ist
  das so? Warum sind Kirchen anders als alle anderen Räume? Woher kommt ihr
 e besondere\nAusstrahlung? Und: Was bedeuten Ihnen die Gotteshäuser\, was 
 bedeutet Ihnen Ihre Kirche?\nInternetadresse (eigene Infos im Internet): h
 ttp://www.eeb-sued.de\nFörderbereich: Religiöse Bildung\, Religionen\, The
 ologie\, Ethik\, Grenzfragen\nReferent/in: Margit Büttner\nAnsprechpartner
 /in - Leitung: Margit Büttner\nKosten: kostenlos\nZusatzinformationen: Anm
 eldung nicht erforderlich!\n: \nAnsprechpartner: Margit Büttner mbuettner@
 eeb-sued.de\nTelefon 06761/7018
DTSTART;TZID=Europe/Berlin:20230202T143000
DTEND;TZID=Europe/Berlin:20230202T163000
LOCATION:Sinzig: Ev. Gemeindehaus Sinzig
SUMMARY:Gotteshäuser – Kirchenräume: Vertraut und fremd zugleich :: Warum s
 ind Kirchen anders als alle anderen Räume? Woher kommt ihre besondere Auss
 trahlung? Was bedeuten Ihnen die Gotteshäuser\, die Kirchen\, Ihre Kirc
URL:https://termine.ekir.de/veranstaltung_im_detail655218.html
END:VEVENT
END:VCALENDAR
