BEGIN:VCALENDAR
VERSION:2.0
PRODID:-//evangelische-termine.de//NONSGML kigkonsult.se iCalcreator 2.18//
CALSCALE:GREGORIAN
METHOD:PUBLISH
X-WR-CALNAME:iCal Evangelische-Termine 23.04.2026
X-WR-CALDESC:iCalender von Evangelische-Termine (23.04.2026)
X-WR-TIMEZONE:Europe/Berlin
X-MS-OLK-FORCEINSPECTOROPEN:TRUE
BEGIN:VTIMEZONE
TZID:Europe/Berlin
BEGIN:STANDARD
DTSTART:19701025T030000
TZOFFSETFROM:+0200
TZOFFSETTO:+0100
RRULE:FREQ=YEARLY;BYDAY=-1SU;BYMONTH=10
TZNAME:CET
END:STANDARD
BEGIN:DAYLIGHT
DTSTART:19700329T020000
TZOFFSETFROM:+0100
TZOFFSETTO:+0200
RRULE:FREQ=YEARLY;BYDAY=-1SU;BYMONTH=3
TZNAME:CEST
END:DAYLIGHT
END:VTIMEZONE
BEGIN:VEVENT
UID:20230405T143000-655246@evangelische-termine.de
DTSTAMP:20260423T104952Z
DESCRIPTION:\nKirchenkreis: Altenkirchen\nArt der Veranstaltung: Fortbildun
 gen / Seminare / Vorträge\nVeranstaltungsort: Ev. Gemeindezentrum Flammers
 feld\nRaiffeisenstr. 48\n57632 Flammersfeld\nKurzbeschreibung / Untertitel
 : Warum sind Kirchen anders als alle anderen Räume? Woher kommt ihre beson
 dere Ausstrahlung? Was bedeuten Ihnen die Gotteshäuser\, die Kirchen\, Ihr
 e Kirche?\nAusführliche Beschreibung: Wir haben in unsrem Leben schon viel
 e Kirchen gesehen. Keine gleicht der anderen. Jede ist auf ihre Art besond
 ers. Jede ist ein Glaubenszeugnis ihrer Zeit. Und jede Kirche\, die wir be
 suchen\, geht mit uns in einen Dialog. Sie sagt: schön\, dass du da bist. 
 Lass Dich auf mich ein. Wir nehmen Geräusche wahr\, wir sehen Bilder\, wir
  fühlen Materialien\, Holz Steine\, Glas... wir fühlen uns wohl und geborg
 en oder befremdet und irritiert. Kirchen sind vertraut und fremd zugleich.
 \nAber warum ist das so? Warum sind Kirchen anders als alle anderen Räume?
  Woher kommt ihre besondere\nAusstrahlung? Und: Was bedeuten Ihnen die Got
 teshäuser\, was bedeutet Ihnen Ihre Kirche?\nInternetadresse (eigene Infos
  im Internet): http://www.eeb-sued.de\nFörderbereich: Religiöse Bildung\, 
 Religionen\, Theologie\, Ethik\, Grenzfragen\nReferent/in: Margit Büttner
 \nAnsprechpartner/in - Leitung: Margit Büttner\nKosten: kostenlos\nZusatzi
 nformationen: Anmeldung nicht erforderlich!\n: \nAnsprechpartner: Margit B
 üttner mbuettner@eeb-sued.de\nTelefon 06761/7018
DTSTART;TZID=Europe/Berlin:20230405T143000
DTEND;TZID=Europe/Berlin:20230405T163000
LOCATION:Flammersfeld: Ev. Gemeindezentrum Flammersfeld
SUMMARY:Gotteshäuser – Kirchenräume: Vertraut und fremd zugleich - Kopie ::
  Warum sind Kirchen anders als alle anderen Räume? Woher kommt ihre besond
 ere Ausstrahlung? Was bedeuten Ihnen die Gotteshäuser\, die Kirchen\, Ihre
  Kirc
URL:https://termine.ekir.de/veranstaltung_im_detail655246.html
END:VEVENT
END:VCALENDAR
