BEGIN:VCALENDAR
VERSION:2.0
PRODID:-//evangelische-termine.de//NONSGML kigkonsult.se iCalcreator 2.18//
CALSCALE:GREGORIAN
METHOD:PUBLISH
X-WR-CALNAME:iCal Evangelische-Termine 23.04.2026
X-WR-CALDESC:iCalender von Evangelische-Termine (23.04.2026)
X-WR-TIMEZONE:Europe/Berlin
X-MS-OLK-FORCEINSPECTOROPEN:TRUE
BEGIN:VTIMEZONE
TZID:Europe/Berlin
BEGIN:STANDARD
DTSTART:19701025T030000
TZOFFSETFROM:+0200
TZOFFSETTO:+0100
RRULE:FREQ=YEARLY;BYDAY=-1SU;BYMONTH=10
TZNAME:CET
END:STANDARD
BEGIN:DAYLIGHT
DTSTART:19700329T020000
TZOFFSETFROM:+0100
TZOFFSETTO:+0200
RRULE:FREQ=YEARLY;BYDAY=-1SU;BYMONTH=3
TZNAME:CEST
END:DAYLIGHT
END:VTIMEZONE
BEGIN:VEVENT
UID:20230509T100000-655255@evangelische-termine.de
DTSTAMP:20260423T105516Z
DESCRIPTION:\nKirchenkreis: Koblenz\nArt der Veranstaltung: Fortbildungen /
  Seminare / Vorträge\nVeranstaltungsort: Ev. Kirchenkreis Koblenz\nMainzer
  Str. 81\n56075 Koblenz\nKurzbeschreibung / Untertitel: Eine Pilgerreise n
 ach Westpapua\nAusführliche Beschreibung: Menschenrechtsverletzungen in In
 donesien standen im Mittelpunkt eines Pilgerwegs für Gerechtigkeit und Fri
 eden des Ökumenischen Rates der Kirchen im Jahr 2019. Eindrücke von Besuch
 en in West-Papua vermittelten ein deprimierendes Bild vom Schwinden des Re
 genwaldes und dessen Folgen für die indigene Bevölkerung. Die auf der Inse
 l geborenen Menschen leiden seit Jahrzehnten unter Diskriminierung und wer
 den bewusst an den Rand gedrängt.\nInternetadresse (eigene Infos im Intern
 et): http://www.eeb-sued.de\nFörderbereich: Politische Bildung\nReferent/i
 n: Marion Unger\, Margit Büttner\nAnsprechpartner/in - Leitung: Margit Büt
 tner\nKosten: freiwilliger Beitrag\nZusatzinformationen: Anmeldung bis zum
  06.05.2023 an anmeldung@eeb-sued.de\, Stichwort „West-Papua“\n: \nAnsprec
 hpartner: Margit Büttner mbuettner@eeb-sued.de\nTelefon 06761/7018
DTSTART;TZID=Europe/Berlin:20230509T100000
DTEND;TZID=Europe/Berlin:20230509T120000
LOCATION:Koblenz: Ev. Kirchenkreis Koblenz
SUMMARY:Ohne Wurzeln stirbt der Mensch :: Eine Pilgerreise nach Westpapua
URL:https://termine.ekir.de/veranstaltung_im_detail655255.html
END:VEVENT
END:VCALENDAR
