BEGIN:VCALENDAR
VERSION:2.0
PRODID:-//evangelische-termine.de//NONSGML kigkonsult.se iCalcreator 2.18//
CALSCALE:GREGORIAN
METHOD:PUBLISH
X-WR-CALNAME:iCal Evangelische-Termine 19.04.2026
X-WR-CALDESC:iCalender von Evangelische-Termine (19.04.2026)
X-WR-TIMEZONE:Europe/Berlin
X-MS-OLK-FORCEINSPECTOROPEN:TRUE
BEGIN:VTIMEZONE
TZID:Europe/Berlin
BEGIN:STANDARD
DTSTART:19701025T030000
TZOFFSETFROM:+0200
TZOFFSETTO:+0100
RRULE:FREQ=YEARLY;BYDAY=-1SU;BYMONTH=10
TZNAME:CET
END:STANDARD
BEGIN:DAYLIGHT
DTSTART:19700329T020000
TZOFFSETFROM:+0100
TZOFFSETTO:+0200
RRULE:FREQ=YEARLY;BYDAY=-1SU;BYMONTH=3
TZNAME:CEST
END:DAYLIGHT
END:VTIMEZONE
BEGIN:VEVENT
UID:20230118T093000-655258@evangelische-termine.de
DTSTAMP:20260419T143345Z
DESCRIPTION:\nOrt: Ev. Gemeindezentrum Lützel\nBodelschwinghstraße 8\n56070
  Koblenz\nBeschreibung: Verschiedene Themen werden erarbeitet u.a. Länderi
 nformation Taiwan – Spielball im Streit der Supermächte\nArt der Veranstal
 tung: Fortbildungen / Seminare / Vorträge\nInternetadresse (eigene Infos i
 m Internet): http://www.eeb-sued.de\nAnsprechpartner: Ulrike Schalenbach h
 uf.falkenberg@t-online.de\nTel.: 02642-980641
DTSTART;TZID=Europe/Berlin:20230118T093000
DTEND;TZID=Europe/Berlin:20230118T163000
LOCATION:Koblenz: Ev. Gemeindezentrum Lützel
SUMMARY:Glaube bewegt. Studientag zum Weltgebetstag 2023 aus Taiwan :: Vers
 chiedene Themen werden erarbeitet u.a. Länderinformation Taiwan – Spielbal
 l im Streit der Supermächte
URL:https://termine.ekir.de/veranstaltung_im_detail655258.html
END:VEVENT
END:VCALENDAR
