BEGIN:VCALENDAR
VERSION:2.0
PRODID:-//evangelische-termine.de//NONSGML kigkonsult.se iCalcreator 2.18//
CALSCALE:GREGORIAN
METHOD:PUBLISH
X-WR-CALNAME:iCal Evangelische-Termine 19.04.2026
X-WR-CALDESC:iCalender von Evangelische-Termine (19.04.2026)
X-WR-TIMEZONE:Europe/Berlin
X-MS-OLK-FORCEINSPECTOROPEN:TRUE
BEGIN:VTIMEZONE
TZID:Europe/Berlin
BEGIN:STANDARD
DTSTART:19701025T030000
TZOFFSETFROM:+0200
TZOFFSETTO:+0100
RRULE:FREQ=YEARLY;BYDAY=-1SU;BYMONTH=10
TZNAME:CET
END:STANDARD
BEGIN:DAYLIGHT
DTSTART:19700329T020000
TZOFFSETFROM:+0100
TZOFFSETTO:+0200
RRULE:FREQ=YEARLY;BYDAY=-1SU;BYMONTH=3
TZNAME:CEST
END:DAYLIGHT
END:VTIMEZONE
BEGIN:VEVENT
UID:20230324T150000-655259@evangelische-termine.de
DTSTAMP:20260419T155549Z
DESCRIPTION:\nKirchenkreis: Wied\nArt der Veranstaltung: Freizeiten / Reise
 n\nVeranstaltungsort: Marienau\, Das Haus der Quelle\nHöhrer Straße 86\n56
 179 Vallendar\nKurzbeschreibung / Untertitel: Zum Wochenende im „Haus an d
 er Quelle“ sind Frauen aller Altersgruppen eingeladen.\nAusführliche Besch
 reibung: Wir nehmen uns Zeit für Bibelarbeit und Gespräch\, zum Spaziereng
 ehen und Entspannen. Die Arbeitseinheiten enthalten Impulse zur selbständi
 gen Umsetzung in Frauengruppen. \nWir kennen das: Eine unerwartete Straßen
 sperre zwingt uns auf einen Umweg. Ärger bringt nichts\, wir müssen den an
 deren Weg nehmen oder einen dritten suchen. Die Strecke ist unbekannt\, ab
 er möglicherweise reizvoll. Wer weiß\, was wir dort finden.\nNicht selten 
 im Leben stehen wir vor Hindernissen und müssen uns entscheiden. Wie soll 
 es weitergehen? Die innere Haltung dazu ist wesentlich für den weiteren We
 g.\nAuch mit dem diesjährigen Frühlingsseminar in Vallendar lassen wir uns
  auf einen neuen Weg ein. Es ist Zeit für Veränderungen. Ein Wochenende is
 t etwas anderes als ein 5-tägiges Seminar. Ein neuer Ort\, ein neues Konze
 pt\, ein neues Team. \n\nZum Wochenende im „Haus an der Quelle“ sind Fraue
 n aller Altersgruppen eingeladen. Wir nehmen uns Zeit für Bibelarbeit und 
 Gespräch\, zum Spazierengehen und Entspannen. Die Arbeitseinheiten enthalt
 en Impulse zur selbständigen Umsetzung in Frauengruppen.\nInternetadresse 
 (eigene Infos im Internet): http://www.eeb-sued.de\nFörderbereich: Religiö
 se Bildung\, Religionen\, Theologie\, Ethik\, Grenzfragen\nReferent/in: Ma
 rgit Büttner\, Dr. Petra Liane Pohel\, Annemarie Trumpler\nAnsprechpartner
 /in - Leitung: Margit Büttner\nKosten: 184\,– € Einzelzimmer DU/WC\, VP\nZ
 usatzinformationen: Anmeldung bis 20.12.2022 an anmeldung@eeb-sued.de\, St
 ichwort „neue Wege“\nNachmeldungen auf Anfrage möglich an mbuettner@eeb-su
 ed.de\nAnsprechpartner: Margit Büttner mbuettner@eeb-sued.de\nTelefon 0676
 1/7018
DTSTART;TZID=Europe/Berlin:20230324T150000
DTEND;TZID=Europe/Berlin:20230326T130000
LOCATION:Vallendar: Marienau\, Das Haus der Quelle
SUMMARY:Vertraut den neuen Wegen.  Frühlingsseminar am neuen Ort Wochenende
  für  Frauen in der Bildungsarbeit  und Interessierte :: Zum Wochenende im
  „Haus an der Quelle“ sind Frauen aller Altersgruppen eingeladen.
URL:https://termine.ekir.de/veranstaltung_im_detail655259.html
END:VEVENT
END:VCALENDAR
