BEGIN:VCALENDAR
VERSION:2.0
PRODID:-//evangelische-termine.de//NONSGML kigkonsult.se iCalcreator 2.18//
CALSCALE:GREGORIAN
METHOD:PUBLISH
X-WR-CALNAME:iCal Evangelische-Termine 19.04.2026
X-WR-CALDESC:iCalender von Evangelische-Termine (19.04.2026)
X-WR-TIMEZONE:Europe/Berlin
X-MS-OLK-FORCEINSPECTOROPEN:TRUE
BEGIN:VTIMEZONE
TZID:Europe/Berlin
BEGIN:STANDARD
DTSTART:19701025T030000
TZOFFSETFROM:+0200
TZOFFSETTO:+0100
RRULE:FREQ=YEARLY;BYDAY=-1SU;BYMONTH=10
TZNAME:CET
END:STANDARD
BEGIN:DAYLIGHT
DTSTART:19700329T020000
TZOFFSETFROM:+0100
TZOFFSETTO:+0200
RRULE:FREQ=YEARLY;BYDAY=-1SU;BYMONTH=3
TZNAME:CEST
END:DAYLIGHT
END:VTIMEZONE
BEGIN:VEVENT
UID:20230606T100000-655266@evangelische-termine.de
DTSTAMP:20260419T160757Z
DESCRIPTION:\nKirchenkreis: Koblenz\nArt der Veranstaltung: Fortbildungen /
  Seminare / Vorträge\nVeranstaltungsort: Ev. Kirchenkreis Koblenz\nMainzer
  Str. 81\n56075 Koblenz\nKurzbeschreibung / Untertitel: In der Reihe „Bild
 ung am Vormittag“ lesen wir gemeinsam die Stellen der Bibel\, in denen es 
 um den Wein geht.\nAusführliche Beschreibung: Gesprächsweise entdecken wir
  ihren oftmals tiefgründigen Sinn. Ein Gläschen Wein darf dabei nicht fehl
 en.\n\nRhein\, Mosel\, Nahe und Ahr – vier der besten Weinbaugebiete präge
 n unsere Heimat. Die Römer brachten den Wein hierher. Aber seine Geschicht
 e reicht noch weiter zurück. Schon die hebräische Bibel kennt viele Geschi
 chten vom Wein\, und mit dem Abendmahl wird der Wein zum erhabenen Sakrame
 nt des Glaubens. \nDarum soll es an diesem sommerlichen Treffen des Ökumen
 e-ImBiss gehen. Wir lesen gemeinsam die Stellen im Alten und Neuen Testame
 nt\, um gesprächsweise ihren oftmals tiefgründigen Sinn zu entdecken. Bei 
 schönem Wetter draußen im Garten direkt am Rhein. Auch wenn es in der Reih
 e 'Bildung am Vormittag' heißt\, darf ein Gläschen Wein dabei nicht fehlen
 . \nBitte bringen Sie\, wenn möglich\, Ihre eigene Bibel mit.\nInternetadr
 esse (eigene Infos im Internet): http://www.eeb-sued.de\nFörderbereich: Re
 ligiöse Bildung\, Religionen\, Theologie\, Ethik\, Grenzfragen\nReferent/i
 n: Margit Büttner\nAnsprechpartner/in - Leitung: Margit Büttner\nKosten: 6
 \,– €\nZusatzinformationen: Anmeldung bis 03.06.2023 unter anmeldung@eeb-s
 ued.de\, Stichwort „Wein“\n: \nAnsprechpartner: Margit Büttner mbuettner@e
 eb-sued.de\nTelefon 06761/7018
DTSTART;TZID=Europe/Berlin:20230606T100000
DTEND;TZID=Europe/Berlin:20230606T120000
LOCATION:Koblenz: Ev. Kirchenkreis Koblenz
SUMMARY:Der Wein erfreut des Menschen Herz. Ein Streifzug durch die Bibel :
 : In der Reihe 'Bildung am Vormittag' lesen wir gemeinsam die Stellen der 
 Bibel\, in denen es um den Wein geht.
URL:https://termine.ekir.de/veranstaltung_im_detail655266.html
END:VEVENT
END:VCALENDAR
