BEGIN:VCALENDAR
VERSION:2.0
PRODID:-//evangelische-termine.de//NONSGML kigkonsult.se iCalcreator 2.18//
CALSCALE:GREGORIAN
METHOD:PUBLISH
X-WR-CALNAME:iCal Evangelische-Termine 19.04.2026
X-WR-CALDESC:iCalender von Evangelische-Termine (19.04.2026)
X-WR-TIMEZONE:Europe/Berlin
X-MS-OLK-FORCEINSPECTOROPEN:TRUE
BEGIN:VTIMEZONE
TZID:Europe/Berlin
BEGIN:STANDARD
DTSTART:19701025T030000
TZOFFSETFROM:+0200
TZOFFSETTO:+0100
RRULE:FREQ=YEARLY;BYDAY=-1SU;BYMONTH=10
TZNAME:CET
END:STANDARD
BEGIN:DAYLIGHT
DTSTART:19700329T020000
TZOFFSETFROM:+0100
TZOFFSETTO:+0200
RRULE:FREQ=YEARLY;BYDAY=-1SU;BYMONTH=3
TZNAME:CEST
END:DAYLIGHT
END:VTIMEZONE
BEGIN:VEVENT
UID:20230316T100000-655339@evangelische-termine.de
DTSTAMP:20260419T160714Z
DESCRIPTION:\nKirchenkreis: überregional\nArt der Veranstaltung: Fortbildun
 gen / Seminare / Vorträge\nVeranstaltungsort: Ev. Kirchengemeinde Remagen-
 Sinzig\nMarktstraße 25\n53424 Remagen\nKurzbeschreibung / Untertitel: Beru
 fsbegleitendes Seminar für Küsterinnen und Küster und alle\, die es werden
  wollen.\nAusführliche Beschreibung: Küsterinnen und Küster versehen in de
 n Kirchengemeinden vielfältige Aufgaben. Sie sind verantwortlich für die V
 orbereitung\, Begleitung und Nachbereitung der Gottesdienste\, für das Gel
 äut und den Kirchenschmuck\, für den ersten Eindruck\, den Besucherinnen u
 nd Besucher der Kirche haben. Das umschreibt ganz grob einen Teil ihrer Tä
 tigkeit. Allerdings ist dieses Amt vielfältiger\, wie man meinen mag.\nDa 
 der Küsterberuf kein regulärer Ausbildungsberuf ist\, sind es meist Querei
 nsteigerinnen und Quereinsteiger\, die diesen Beruf ausüben.\n\nDieses Sem
 inar richtet sich an Küsterinnen und Küster und alle die es werden wollen.
  Es ist der Auftakt einer losen Reihe von Veranstaltungen\, mit denen wir 
 Sie in Ihrem Dienst begleiten und die Gelegenheit bieten wollen\, sich mit
  Berufskolleginnen und -kollegen auszutauschen. Sie können sich zu den Ver
 anstaltungen einzeln anmelden\, die Termine werden noch bekanntgegeben. \n
 \nWir orientieren uns an vier Leitthemen:\n-	Praktisches (z.B. Arbeitsschut
 z)\n-	Hintergründe (z.B. Struktur der evangelischen Kirche im Rheinland)\n-
 	Menschliches (z.B. Verhältnis Hauptamtliche und Ehrenamtliche)\n-	Geistlich
 es (z.B. Feiertage) \n\nBeim ersten Treffen nehmen wir uns Zeit zum Kennen
 lernen und widmen uns dann dem roten Faden der Küsterarbeit\, dem Kirchenj
 ahr:  \nFür die Kirche beginnt das neue Jahr nicht am 1. Januar\, sondern 
 am Ersten Advent. Die Jahreszeiten heißen nicht Frühling\, Sommer\, Herbst
  und Winter\, sondern tragen Namen wie Weihnachtsfestkreis\, Passionszeit 
 oder Trinitatiszeit. Wie kam es zur Einteilung des sogenannten „Kirchenjah
 res“? Welche Farben\, Symbole und Liturgie zeichnen die Zeit um Advent und
  Weihnachten aus?\nInternetadresse (eigene Infos im Internet): http://www.
 eeb-sued.de\nFörderbereich: Arbeitswelt- und berufsbezogene Weiterbildung
 \nReferent/in: Margit Büttner\, Carola Schick\nAnsprechpartner/in - Leitun
 g: Carola Schick\nKosten: 30\,– €\nZusatzinformationen: Anmeldungen bis 09
 .03.2023 an anmeldung@eeb-sued.de\, Stichwort „Küster“\n: \nAnsprechpartne
 r: Carola Schick eeb-sued@eeb-sued.de
DTSTART;TZID=Europe/Berlin:20230316T100000
DTEND;TZID=Europe/Berlin:20230316T160000
LOCATION:Remagen: Ev. Kirchengemeinde Remagen-Sinzig
SUMMARY:Küsterinnen/Küster Fortbildung – Viel mehr als ein Hausmeister. :: 
 Berufsbegleitendes Seminar für Küsterinnen und Küster und alle\, die es we
 rden wollen.
URL:https://termine.ekir.de/veranstaltung_im_detail655339.html
END:VEVENT
END:VCALENDAR
