BEGIN:VCALENDAR
VERSION:2.0
PRODID:-//evangelische-termine.de//NONSGML kigkonsult.se iCalcreator 2.18//
CALSCALE:GREGORIAN
METHOD:PUBLISH
X-WR-CALNAME:iCal Evangelische-Termine 19.04.2026
X-WR-CALDESC:iCalender von Evangelische-Termine (19.04.2026)
X-WR-TIMEZONE:Europe/Berlin
X-MS-OLK-FORCEINSPECTOROPEN:TRUE
BEGIN:VTIMEZONE
TZID:Europe/Berlin
BEGIN:STANDARD
DTSTART:19701025T030000
TZOFFSETFROM:+0200
TZOFFSETTO:+0100
RRULE:FREQ=YEARLY;BYDAY=-1SU;BYMONTH=10
TZNAME:CET
END:STANDARD
BEGIN:DAYLIGHT
DTSTART:19700329T020000
TZOFFSETFROM:+0100
TZOFFSETTO:+0200
RRULE:FREQ=YEARLY;BYDAY=-1SU;BYMONTH=3
TZNAME:CEST
END:DAYLIGHT
END:VTIMEZONE
BEGIN:VEVENT
UID:20230530T150000-655569@evangelische-termine.de
DTSTAMP:20260419T175722Z
DESCRIPTION:\nKirchenkreis: überregional\nArt der Veranstaltung: Freizeiten
  / Reisen\nVeranstaltungsort: Haus der Stille\nMelsbacher Hohl 5\n56579 Re
 ngsdorf\nKurzbeschreibung / Untertitel: Im Sitzen und Gehen in der Stille 
 in der Tradition des Herzensgebets und der Wolke des Nichtwissens können w
 ir zu einer vertieften Erfahrung unseres w\nAusführliche Beschreibung: Dab
 ei lassen wir uns inspirieren von Texten aus der Bibel\, der christlichen 
 Mystik und der zeitgenössischen Spiritualität. Austausch in der Gruppe fin
 den nur zu Beginn und am Schluss statt.\nWeitere Element sind: Einzelgespr
 äche zur geistlichen Begleitung und Seelsorge\, Gebetsgebärde\, kleine Wan
 derungen\, Morgen- und Abendgebet und ein Gottesdienst. Der Kurs findet in
  durchgehendem Schweigen statt - etwas Mediationserfahrung wird vorausgese
 tzt. Mit Körperarbeit\, geführten Meditationen des Mitmenschen\, der Liebe
  und Güte.\nInternetadresse (eigene Infos im Internet): https://haus-der-s
 tille.ekir.de/inhalt/kurskalender/\nFörderbereich: Religiöse Bildung\, Rel
 igionen\, Theologie\, Ethik\, Grenzfragen\nReferent/in: Manfred Rompf\, Pf
 arrer\, Kontemplationslehrer\, Geistlicher Begleiter | Achim Riggert\,  Pf
 arrer\nAnsprechpartner/in - Leitung: Manfred Rompf\nKosten: 627\,– € inkl.
  Unterkunft und Verpflegung\nZusatzinformationen: Anmeldung per Mail an an
 meldung.hds@ekir.de\noder via Website: https://haus-der-stille.ekir.de/inh
 alt/kurskalender/
DTSTART;TZID=Europe/Berlin:20230530T150000
DTEND;TZID=Europe/Berlin:20230604T130000
LOCATION:Rengsdorf: Haus der Stille
SUMMARY:Der Himmel ist in dir :: Im Sitzen und Gehen in der Stille in der T
 radition des Herzensgebets und der Wolke des Nichtwissens können wir zu ei
 ner vertieften Erfahrung unseres w
URL:https://termine.ekir.de/veranstaltung_im_detail655569.html
END:VEVENT
END:VCALENDAR
