BEGIN:VCALENDAR
VERSION:2.0
PRODID:-//evangelische-termine.de//NONSGML kigkonsult.se iCalcreator 2.18//
CALSCALE:GREGORIAN
METHOD:PUBLISH
X-WR-CALNAME:iCal Evangelische-Termine 21.04.2026
X-WR-CALDESC:iCalender von Evangelische-Termine (21.04.2026)
X-WR-TIMEZONE:Europe/Berlin
X-MS-OLK-FORCEINSPECTOROPEN:TRUE
BEGIN:VTIMEZONE
TZID:Europe/Berlin
BEGIN:STANDARD
DTSTART:19701025T030000
TZOFFSETFROM:+0200
TZOFFSETTO:+0100
RRULE:FREQ=YEARLY;BYDAY=-1SU;BYMONTH=10
TZNAME:CET
END:STANDARD
BEGIN:DAYLIGHT
DTSTART:19700329T020000
TZOFFSETFROM:+0100
TZOFFSETTO:+0200
RRULE:FREQ=YEARLY;BYDAY=-1SU;BYMONTH=3
TZNAME:CEST
END:DAYLIGHT
END:VTIMEZONE
BEGIN:VEVENT
UID:20230406T180000-655573@evangelische-termine.de
DTSTAMP:20260421T125334Z
DESCRIPTION:\nKirchenkreis: überregional\nArt der Veranstaltung: Freizeiten
  / Reisen\nVeranstaltungsort: Haus der Stille\nMelsbacher Hohl 5\n56579 Re
 ngsdorf\nKurzbeschreibung / Untertitel: Mit dem Zitat aus Johannes 14\,6 e
 rleben und gestalten wir Jesu Weg gemeinsam von Gründonnerstag bis Ostern
 \nAusführliche Beschreibung: Wir gehen die Stationen von Jesu Passion und 
 Auferstehung nach und verbinden die inneren Erfahrungen seines Weges mit d
 en eigenen Lebensstationen. Wir erinnern uns an Situationen\, in denen wir
  verzweifelt waren\, uns von Gott verlassen gefühlt haben\, aber dennoch w
 ieder Vertrauen gefunden sowie Zuversicht und Liebe. Wir feiern gemeinsam 
 an Agapemahl an Gründonnerstag\, durchleben Trennung\, Vereinzelung und To
 desängste an Karfreitag\, um an Karsamstag neues Vertrauen zu finden und O
 stern das Fest der Auferstehung von Liebe\, Hoffnung\, Zuversicht und Gott
 verbundenheit zu feiern. Diesen Weg der Wahrheit gehen wir mit kreativen A
 rbeiten\, mit Schweigeeinheiten\, meditativen Impulsen\, Austausch von Erf
 ahrungen\, Körperarbeit\, Meditativen Tänzen und festlichen gottesdienstli
 chen Feiern.\nInternetadresse (eigene Infos im Internet): https://haus-der
 -stille.ekir.de/inhalt/kurskalender/\nFörderbereich: Religiöse Bildung\, R
 eligionen\, Theologie\, Ethik\, Grenzfragen\nReferent/in: Karla Domning (L
 eitende Diplom-Psychologin und Pastorin in der Klinik Lahn-Höhe in Lahnste
 in)\nAnsprechpartner/in - Leitung: Karla Domning\nKosten: 388\,– € inkl. U
 nterkunft und Verpflegung\nZusatzinformationen: Anmeldung an: anmeldung.hd
 s@ekir.de\noder via Website: https://haus-der-stille.ekir.de/inhalt/kurska
 lender/\nKursnummer: HDS-Kurs 23514
DTSTART;TZID=Europe/Berlin:20230406T180000
DTEND;TZID=Europe/Berlin:20230409T140000
LOCATION:Rengsdorf: Haus der Stille
SUMMARY:„Ich bin der Weg\, die Wahrheit und das Leben“ :: Mit dem Zitat aus
  Johannes 14\,6 erleben und gestalten wir Jesu Weg gemeinsam von Gründonne
 rstag bis Ostern
URL:https://termine.ekir.de/veranstaltung_im_detail655573.html
END:VEVENT
END:VCALENDAR
