BEGIN:VCALENDAR
VERSION:2.0
PRODID:-//evangelische-termine.de//NONSGML kigkonsult.se iCalcreator 2.18//
CALSCALE:GREGORIAN
METHOD:PUBLISH
X-WR-CALNAME:iCal Evangelische-Termine 19.04.2026
X-WR-CALDESC:iCalender von Evangelische-Termine (19.04.2026)
X-WR-TIMEZONE:Europe/Berlin
X-MS-OLK-FORCEINSPECTOROPEN:TRUE
BEGIN:VTIMEZONE
TZID:Europe/Berlin
BEGIN:STANDARD
DTSTART:19701025T030000
TZOFFSETFROM:+0200
TZOFFSETTO:+0100
RRULE:FREQ=YEARLY;BYDAY=-1SU;BYMONTH=10
TZNAME:CET
END:STANDARD
BEGIN:DAYLIGHT
DTSTART:19700329T020000
TZOFFSETFROM:+0100
TZOFFSETTO:+0200
RRULE:FREQ=YEARLY;BYDAY=-1SU;BYMONTH=3
TZNAME:CEST
END:DAYLIGHT
END:VTIMEZONE
BEGIN:VEVENT
UID:20230106T180000-655613@evangelische-termine.de
DTSTAMP:20260419T143346Z
DESCRIPTION:\nKirchenkreis: überregional\nArt der Veranstaltung: Freizeiten
  / Reisen\nVeranstaltungsort: Haus der Stille\nMelsbacher Hohl 5\n56579 Re
 ngsdorf\nKurzbeschreibung / Untertitel: Mit diesem Wochenendangebot laden 
 wir Sie ein\, sich mit den eigenen Ressourcen und Möglichkeiten zu beschäf
 tigen.\nAusführliche Beschreibung: In den Yogaübungen suchen wir das körpe
 rliche Fundament\, aus dem wir eine Haltung entwickeln können. Im biblisch
 en Impuls fragen wir nach den geistlichen Dimensionen\, aus denen wir Kraf
 t schöpfen können. In der Stille und im Sitzen finden wir eigene Ressource
 n. Im Gottesdienst feiern wir die Verbundenheit\, die weit über unser Selb
 st hinausgeht. Ein Wochenende\, das einlädt sich aus der Fülle heraus dem 
 zu nähern\, was mich selbst als Person trägt und Fundament ist.\nInterneta
 dresse (eigene Infos im Internet): https://termine.ekir.de/rueckmeldeformu
 lar28-632254\nFörderbereich: Lebensgestaltende Bildung\, Existenzfragen\, 
 einschließlich der Bereiche der soz. u.. interkulturellen Beziehungen\nRef
 erent/in: Bernd Franzen\, Biologe\, Prädikant\, Yogalehrer BDY | Stefanie 
 Houben\, Vikarin\nAnsprechpartner/in - Leitung: anmeldung.hds@ekir.de\nKos
 ten: 269\,– € inkl. Unterkunft und Verpflegung\nZusatzinformationen: per E
 -Mail an: anmeldung.hds@ekir.de\noder via Website: https://termine.ekir.de
 /rueckmeldeformular28-632254\nKursnummer: HDS Kurs 23101
DTSTART;TZID=Europe/Berlin:20230106T180000
DTEND;TZID=Europe/Berlin:20230108T140000
LOCATION:Rengsdorf: Haus der Stille
SUMMARY:Fundamente für ein neues Jahr: Die eigenen Wurzeln ergründen :: Mit
  diesem Wochenendangebot laden wir Sie ein\, sich mit den eigenen Ressourc
 en und Möglichkeiten zu beschäftigen.
URL:https://termine.ekir.de/veranstaltung_im_detail655613.html
END:VEVENT
END:VCALENDAR
