BEGIN:VCALENDAR
VERSION:2.0
PRODID:-//evangelische-termine.de//NONSGML kigkonsult.se iCalcreator 2.18//
CALSCALE:GREGORIAN
METHOD:PUBLISH
X-WR-CALNAME:iCal Evangelische-Termine 19.04.2026
X-WR-CALDESC:iCalender von Evangelische-Termine (19.04.2026)
X-WR-TIMEZONE:Europe/Berlin
X-MS-OLK-FORCEINSPECTOROPEN:TRUE
BEGIN:VTIMEZONE
TZID:Europe/Berlin
BEGIN:STANDARD
DTSTART:19701025T030000
TZOFFSETFROM:+0200
TZOFFSETTO:+0100
RRULE:FREQ=YEARLY;BYDAY=-1SU;BYMONTH=10
TZNAME:CET
END:STANDARD
BEGIN:DAYLIGHT
DTSTART:19700329T020000
TZOFFSETFROM:+0100
TZOFFSETTO:+0200
RRULE:FREQ=YEARLY;BYDAY=-1SU;BYMONTH=3
TZNAME:CEST
END:DAYLIGHT
END:VTIMEZONE
BEGIN:VEVENT
UID:20230211T100000-655618@evangelische-termine.de
DTSTAMP:20260419T155555Z
DESCRIPTION:\nKirchenkreis: Simmern-Trarbach\nArt der Veranstaltung: Fortbi
 ldungen / Seminare / Vorträge\nVeranstaltungsort: Ev. Erwachsenenbildungsw
 erk Rheinland-Süd e.V.\, Simmern\nHerzog-Reichard-Str. 30\n55469 Simmern\n
 Kurzbeschreibung / Untertitel: Thementag Presbyterium: „Wie sprechen wir d
 ie „richtigen“ Leute für die Arbeit in einem Presbyterium an?\nAusführlich
 e Beschreibung: Im März 2024 steht die Presbyteriumswahl vor der Tür. \n\n
 Wie finden wir Kandidaten und Kandidatinnen\, fragen sich Mitglieder der P
 resbyterien.\n\nDeshalb laden wir frühzeitig ein zu einem Workshop rund um
  diese Fragen:\n• Welche Möglichkeiten haben wir\, für eine Kandidatur zu 
 werben?\n• Wie sprechen wir die „richtigen“ Leute an?\n• Ist die Arbeit in
  unserem Presbyterium so gut aufgestellt\, \n   dass ich dafür gerne Werbu
 ng machen kann?\nInternetadresse (eigene Infos im Internet): https://fortb
 ildung.ekir.de/termine/fuehren-und-leiten.php?ID=642783#et_detail_header\n
 Förderbereich: Ehrenamt\nReferent/in: Jutta Pfeifenschneider und Sylvia Wi
 ederspahn\, Gemeindeberaterinnen der rheinischen Kirche\nAnsprechpartner/i
 n - Leitung: Evangelische Kirche im Rheinland / Gemeindepädagogik / Ehrena
 mt\n\nHans-Böckler-Straße 7\n40476 Düsseldorf\nehrenamt@ekir.de\nDieser Te
 rmin wurde eingestellt von:\nLandeskirchenamt\nDezernat 2.2\nHans-Böckler-
 Str. 7\n40476 Düsseldorf\nehrenamt@ekir.de\npresbyterfortbildung@ekir.de\n
 gemeindepaedagogik@ekir.de\nKosten: kostenlos\nZusatzinformationen: Anmeld
 ung unter: https://events.crm.ekir.de/civiremote/event/315/register
DTSTART;TZID=Europe/Berlin:20230211T100000
DTEND;TZID=Europe/Berlin:20230211T130000
LOCATION:Simmern: Ev. Erwachsenenbildungswerk Rheinland-Süd e.V.\, Simmern
SUMMARY:Ehrenamt in der Kirchengemeinde fördern. Neue ehrenamtliche Presbyt
 eriumsmitglieder finden für die Wahlen im kommenden Jahr! :: Thementag Pre
 sbyterium: „Wie sprechen wir die „richtigen“ Leute für die Arbeit in einem
  Presbyterium an?
URL:https://termine.ekir.de/veranstaltung_im_detail655618.html
END:VEVENT
END:VCALENDAR
