BEGIN:VCALENDAR
VERSION:2.0
PRODID:-//evangelische-termine.de//NONSGML kigkonsult.se iCalcreator 2.18//
CALSCALE:GREGORIAN
METHOD:PUBLISH
X-WR-CALNAME:iCal Evangelische-Termine 19.04.2026
X-WR-CALDESC:iCalender von Evangelische-Termine (19.04.2026)
X-WR-TIMEZONE:Europe/Berlin
X-MS-OLK-FORCEINSPECTOROPEN:TRUE
BEGIN:VTIMEZONE
TZID:Europe/Berlin
BEGIN:STANDARD
DTSTART:19701025T030000
TZOFFSETFROM:+0200
TZOFFSETTO:+0100
RRULE:FREQ=YEARLY;BYDAY=-1SU;BYMONTH=10
TZNAME:CET
END:STANDARD
BEGIN:DAYLIGHT
DTSTART:19700329T020000
TZOFFSETFROM:+0100
TZOFFSETTO:+0200
RRULE:FREQ=YEARLY;BYDAY=-1SU;BYMONTH=3
TZNAME:CEST
END:DAYLIGHT
END:VTIMEZONE
BEGIN:VEVENT
UID:20230427T100000-655669@evangelische-termine.de
DTSTAMP:20260419T160714Z
DESCRIPTION:\nKirchenkreis: überregional\nVeranstaltungsort: Evangelische A
 rbeitsstelle Bildung und Gesellschaft\nUnionstraße 1\n67657 Kaiserslautern
 \nKurzbeschreibung / Untertitel: Was muss ich beachten beim Erstellen eine
 s Podcasts? Teil 2\nAusführliche Beschreibung: Nach der thematische Einfüh
 rung in die Strukturierung und die technische Umsetzung von Podcasts geht 
 es im zweiten Teil um den \nSchnitt der Tonschleifen mit Hilfe verschieden
 er Schnittprogramme und der Verteilung im Web. \nWir werden uns folgenden 
  weiterführende Fragestellungen widmen:\n> Wie stellt man seine Inhalte zu
 sammen und setzt sie technisch um?\n> Wie funktioniert Tonschnitt? Welche 
 Programme können wir nutzen?\n> Wie können Podcasts verbreitet werden im I
 nternet\, Social-Media?\n> Was ist dabei zu beachten?\nGemeinsam werden wi
 r uns die einzelnen Bereiche anschauen\, erschließen und ausprobieren. \nD
 as Angebot richtet sich an alle Interessierten\, die mit Podcasts evtl. Bi
 ldungsthemen aufbereiten \noder ein neues Projekt mit Kinder- und Jugendgr
 uppen anleiten möchten.\n\nMitgebracht werden können u.a. die eigenen Gerä
 te\, die evtl. schon angeschafft wurden\, vom Mikrofon über das Laptop ode
 r Tablet.        \nDas Angebote ist wieder kostenlos und bei weiteren Frag
 en können Sie uns gerne kontaktieren.\nInternetadresse (eigene Infos im In
 ternet): http://www.eeb-sued.de\nFörderbereich: Technik\, Technologien\, M
 edien\nReferent/in: Christian Gisinger\, Severino Ferreira da Silva\, Caro
 la Schick\nAnsprechpartner/in - Leitung: Carola Schick\nKosten: kostenlos
 \nZusatzinformationen: Anmeldung bis 20.04.2023 unter anmeldung@eeb-sued.d
 e\, Stichwort „Podcast 2go“\noder unter https://elag.de/podcast-2go/
DTSTART;TZID=Europe/Berlin:20230427T100000
DTEND;TZID=Europe/Berlin:20230427T160000
LOCATION:Kaiserslautern: Evangelische Arbeitsstelle Bildung und Gesellschaf
 t
SUMMARY:Podcast 2go… Wie erstelle  ich einen Podcast? :: Was muss ich beach
 ten beim Erstellen eines Podcasts? Teil 2
URL:https://termine.ekir.de/veranstaltung_im_detail655669.html
END:VEVENT
END:VCALENDAR
