BEGIN:VCALENDAR
VERSION:2.0
PRODID:-//evangelische-termine.de//NONSGML kigkonsult.se iCalcreator 2.18//
CALSCALE:GREGORIAN
METHOD:PUBLISH
X-WR-CALNAME:iCal Evangelische-Termine 19.04.2026
X-WR-CALDESC:iCalender von Evangelische-Termine (19.04.2026)
X-WR-TIMEZONE:Europe/Berlin
X-MS-OLK-FORCEINSPECTOROPEN:TRUE
BEGIN:VTIMEZONE
TZID:Europe/Berlin
BEGIN:STANDARD
DTSTART:19701025T030000
TZOFFSETFROM:+0200
TZOFFSETTO:+0100
RRULE:FREQ=YEARLY;BYDAY=-1SU;BYMONTH=10
TZNAME:CET
END:STANDARD
BEGIN:DAYLIGHT
DTSTART:19700329T020000
TZOFFSETFROM:+0100
TZOFFSETTO:+0200
RRULE:FREQ=YEARLY;BYDAY=-1SU;BYMONTH=3
TZNAME:CEST
END:DAYLIGHT
END:VTIMEZONE
BEGIN:VEVENT
UID:20230307T100000-655686@evangelische-termine.de
DTSTAMP:20260419T160714Z
DESCRIPTION:\nKirchenkreis: überregional\nArt der Veranstaltung: Fortbildun
 gen / Seminare / Vorträge\nKurzbeschreibung / Untertitel: Der Online-Vortr
 ag bietet eine Übersicht über die verschiedenen Vorsorgedokumente\nAusführ
 liche Beschreibung: Selbstbestimmt leben wollen alle. Doch Krankheit\, Unf
 all oder Alterseinschränkungen können das selbstbestimmte Handeln schnell 
 begrenzen. Mit frühzeitig erstellten Vorsorgedokumenten können vertraute M
 enschen bevollmächtigt werden\, sich im Notfall um persönliche Belange zu 
 kümmern.\nDer Online-Vortrag bietet eine Übersicht über die verschiedenen 
 Vorsorgedokumente und hilft Ihnen\, wichtige Entscheidungen zu treffen und
  zu dokumentieren.\nInternetadresse (eigene Infos im Internet): http://www
 .eeb-sued.de\nFörderbereich: Gesellschaft\, Politik und Wirtschaft\nRefere
 nt/in: Thomas Denn\, Sozialpädagoge und Margit Büttner\nAnsprechpartner/in
  - Leitung: Margit Büttner\nKosten: kostenlos\nZusatzinformationen: Anmeld
 ung bis 05.03.2023 an anmeldung@eeb-sued.de\, Stichwort „Vorsorge“\nAnspre
 chpartner: Margit Büttner mbuettner@eeb-sued.de\nTelefon 06761/7018
DTSTART;TZID=Europe/Berlin:20230307T100000
DTEND;TZID=Europe/Berlin:20230307T120000
LOCATION:Internet: nur Internet
SUMMARY:Im Dschungel der Dokumente – Vorsorge statt Sorge :: Der Online-Vor
 trag bietet eine Übersicht über die verschiedenen Vorsorgedokumente
URL:https://termine.ekir.de/veranstaltung_im_detail655686.html
END:VEVENT
END:VCALENDAR
