BEGIN:VCALENDAR
VERSION:2.0
PRODID:-//evangelische-termine.de//NONSGML kigkonsult.se iCalcreator 2.18//
CALSCALE:GREGORIAN
METHOD:PUBLISH
X-WR-CALNAME:iCal Evangelische-Termine 19.04.2026
X-WR-CALDESC:iCalender von Evangelische-Termine (19.04.2026)
X-WR-TIMEZONE:Europe/Berlin
X-MS-OLK-FORCEINSPECTOROPEN:TRUE
BEGIN:VTIMEZONE
TZID:Europe/Berlin
BEGIN:STANDARD
DTSTART:19701025T030000
TZOFFSETFROM:+0200
TZOFFSETTO:+0100
RRULE:FREQ=YEARLY;BYDAY=-1SU;BYMONTH=10
TZNAME:CET
END:STANDARD
BEGIN:DAYLIGHT
DTSTART:19700329T020000
TZOFFSETFROM:+0100
TZOFFSETTO:+0200
RRULE:FREQ=YEARLY;BYDAY=-1SU;BYMONTH=3
TZNAME:CEST
END:DAYLIGHT
END:VTIMEZONE
BEGIN:VEVENT
UID:20230109T183000-655692@evangelische-termine.de
DTSTAMP:20260419T143345Z
DESCRIPTION:\nKirchenkreis: überregional\nArt der Veranstaltung: Fortbildun
 gen / Seminare / Vorträge\nKurzbeschreibung / Untertitel: Onlineseminar in
  fünf Einheiten. Der Kurs folgt keiner starren Planung\, sondern lässt vie
 l Spielraum für Fragen und Austausch.\nAusführliche Beschreibung: Basics. 
 Um mehr kann es nicht gehen in einem Kurs\, der in nur zweimal fünf Einhei
 ten eine Einführung in das Buch der Bücher geben will. Um weniger aber auc
 h nicht.\nDas Winterhalbjahr könnte eine gute Zeit sein\, miteinander die 
 Bibel kennenzulernen und ihr viele Fragen zu stellen: Was ist überhaupt di
 e Bibel? Wer hat sie geschrieben? Worum geht es? Wo finde ich was? Was geh
 t mich das an?\nDie Kursabende finden online statt\, so dass Sie bequem vo
 n zuhause aus teilnehmen können.\nSie umfassen jeweils zwei Zeitstunden. 
 \nDer erste Kursteil hat in das alte Testament eingeführt. Im zweiten Teil
  geht es um das Neue Testament. Für den Kursverlauf möchte ich keine starr
 e Planung vorgeben\, um genügend Spielraum für Ihre Fragen zu haben. Die f
 olgenden Stichworte dienen daher nur der vorläufigen Orientierung:\n• Ents
 tehung und Inhalt der Evangelien. \n• Wer war Jesus? \n• Anfänge des Chris
 tentums: Apostelgeschichte und Briefe.\n• Worauf hoffen wir? Bildwelt der 
 Offenbarung. \n• Verhältnis Altes und Neues Testament. \n\nJemand hat einm
 al gesagt\, die Bibel sei für ihn wie eine Landschaft mit Tälern und Hügel
 n\, weiten Ebenen und Felsen\, belebenden Quellen und stillen Seen. \nEin 
 treffendes Bild. Schauen wir uns in dieser Landschaft um und erkunden sie 
 gemeinsam. Die Kursleitung kann dabei nur ein „Guide“ sein. In der Landsch
 aft bewegen müssen wir uns selber\, um sie kennenzulernen und uns gegensei
 tig auf ihre Schönheiten und Eigenheiten aufmerksam zu machen. Der Austaus
 ch untereinander ist daher genauso wichtig wie der informative Anteil. \nS
 ie brauchen kein Vorwissen. Sie müssen nicht fromm sein. Ihr Wunsch\, mehr
  zu erfahren und sich gemeinsam mit anderen auf diesen Weg zu machen\, ist
  die einzige Voraussetzung zur Teilnahme.\nDie Veranstaltungsreihe finde m
 ontags abends zu folgenden Terminen statt:\n09.01.\, 23.01.\, 06.02.\, 27.
 02.\, 13.03.2023\nFörderbereich: Religiöse Bildung\, Religionen\, Theologi
 e\, Ethik\, Grenzfragen\nReferent/in: Margit Büttner\, Pfarrerin und Bildu
 ngsreferentin im Web\nAnsprechpartner/in - Leitung: Margit Büttner\nKosten
 : 25\,– €\nZusatzinformationen: Anmeldung an anmeldung@eeb-sued.de\, Stich
 wort „Bibel-Basics Teil 2“\, maximal 14 Teilnehmer. Nach Anmeldung erhalte
 n Sie einen Zugangslink per Mail.\nAnsprechpartner: Margit Büttner mbuettn
 er@eeb-sued.de\nTelefon 06761/7018
DTSTART;TZID=Europe/Berlin:20230109T183000
DTEND;TZID=Europe/Berlin:20230109T203000
LOCATION:Internet: nur Internet
RRULE:FREQ=DAILY;UNTIL=20230313T235900Z;INTERVAL=1;WKST=SU
SUMMARY:Bibel-Basics. Was ich schon immer wissen wollte. Teil 2: Das Neue T
 estament :: Einmal im Monat. Onlineseminar in fünf Einheiten. Der Kurs fol
 gt keiner starren Planung\, sondern lässt viel Spielraum für Fragen und Au
 stausch.
URL:https://termine.ekir.de/veranstaltung_im_detail655692.html
END:VEVENT
END:VCALENDAR
