BEGIN:VCALENDAR
VERSION:2.0
PRODID:-//evangelische-termine.de//NONSGML kigkonsult.se iCalcreator 2.18//
CALSCALE:GREGORIAN
METHOD:PUBLISH
X-WR-CALNAME:iCal Evangelische-Termine 21.04.2026
X-WR-CALDESC:iCalender von Evangelische-Termine (21.04.2026)
X-WR-TIMEZONE:Europe/Berlin
X-MS-OLK-FORCEINSPECTOROPEN:TRUE
BEGIN:VTIMEZONE
TZID:Europe/Berlin
BEGIN:STANDARD
DTSTART:19701025T030000
TZOFFSETFROM:+0200
TZOFFSETTO:+0100
RRULE:FREQ=YEARLY;BYDAY=-1SU;BYMONTH=10
TZNAME:CET
END:STANDARD
BEGIN:DAYLIGHT
DTSTART:19700329T020000
TZOFFSETFROM:+0100
TZOFFSETTO:+0200
RRULE:FREQ=YEARLY;BYDAY=-1SU;BYMONTH=3
TZNAME:CEST
END:DAYLIGHT
END:VTIMEZONE
BEGIN:VEVENT
UID:20230207T100000-655697@evangelische-termine.de
DTSTAMP:20260421T125334Z
DESCRIPTION:\nKirchenkreis: überregional\nArt der Veranstaltung: Fortbildun
 gen / Seminare / Vorträge\nKurzbeschreibung / Untertitel: Im Auftrag der S
 ED observierte das Ministerium für Staatssicherheit nicht nur die Kirchen 
 der DDR\, sondern auch Pfarrer\, Kirchengemeinden und Synoden\nAusführlich
 e Beschreibung: Die Kirchen gerieten nicht selten unter Verdacht\, gegen d
 ie politischen Verhältnisse in der DDR zu opponieren. Das lag an ihrer wei
 tgehenden Eigenständigkeit\, an der christlichen Botschaft\, die von den k
 ommunistischen Ideologen als konkurrierendes Sinn- und Erklärungsangebot a
 bgelehnt wurde\, sowie an ihrem Beharren auf Mitsprache und Gestaltungsans
 pruch in gesellschaftlichen Fragen. Im Auftrag der SED wurde daher das MfS
  tätig\, um die von den Kirchen ausgehenden vermeintlichen und tatsächlich
 en Gefahren für das politisch-ideologische System der DDR abzuwehren. (Que
 lle: https://www.stasi-unterlagen-archiv.de/mfs-lexikon/detail/kirchen-bek
 aempfung-und-infiltration-der/) Im Fokus standen dabei nicht nur die Kirch
 en der DDR\, sondern auch Pfarrer\, Kirchengemeinden und Synoden im Westen
 .\nTimo Runkel forscht als Doktorand über Observationen von Personen und E
 inrichtungen der Evangelischen Kirche im Rheinland durch das MfS.\nInterne
 tadresse (eigene Infos im Internet): http://www.eeb-sued.de\nFörderbereich
 : Politische Bildung\nReferent/in: Timo Runkel\, Doktorand\nMargit Büttner
 \nAnsprechpartner/in - Leitung: Margit Büttner\nKosten: freiwilliger Beitr
 ag\nZusatzinformationen: Anmeldung bis 03.02.2023 unter anmeldung@eeb-sued
 .de\, Stichwort „Stasi“\n: \nAnsprechpartner: Margit Büttner mbuettner@eeb
 -sued.de\nTelefon 06761/7018
DTSTART;TZID=Europe/Berlin:20230207T100000
DTEND;TZID=Europe/Berlin:20230207T120000
LOCATION:Internet: nur Internet
SUMMARY:Die Evangelische Kirche im Rheinland im Fokus der Stasi? :: Im Auft
 rag der SED observierte das Ministerium für Staatssicherheit nicht nur die
  Kirchen der DDR\, sondern auch Pfarrer\, Kirchengemeinden und Synoden 
URL:https://termine.ekir.de/veranstaltung_im_detail655697.html
END:VEVENT
END:VCALENDAR
