BEGIN:VCALENDAR
VERSION:2.0
PRODID:-//evangelische-termine.de//NONSGML kigkonsult.se iCalcreator 2.18//
CALSCALE:GREGORIAN
METHOD:PUBLISH
X-WR-CALNAME:iCal Evangelische-Termine 19.04.2026
X-WR-CALDESC:iCalender von Evangelische-Termine (19.04.2026)
X-WR-TIMEZONE:Europe/Berlin
X-MS-OLK-FORCEINSPECTOROPEN:TRUE
BEGIN:VTIMEZONE
TZID:Europe/Berlin
BEGIN:STANDARD
DTSTART:19701025T030000
TZOFFSETFROM:+0200
TZOFFSETTO:+0100
RRULE:FREQ=YEARLY;BYDAY=-1SU;BYMONTH=10
TZNAME:CET
END:STANDARD
BEGIN:DAYLIGHT
DTSTART:19700329T020000
TZOFFSETFROM:+0100
TZOFFSETTO:+0200
RRULE:FREQ=YEARLY;BYDAY=-1SU;BYMONTH=3
TZNAME:CEST
END:DAYLIGHT
END:VTIMEZONE
BEGIN:VEVENT
UID:20230110T100000-655699@evangelische-termine.de
DTSTAMP:20260419T143345Z
DESCRIPTION:\nKirchenkreis: überregional\nArt der Veranstaltung: Fortbildun
 gen / Seminare / Vorträge\nKurzbeschreibung / Untertitel: Jesus als Erzähl
 er der Geschichten Gottes versteht\, dass viele Dinge seine Menschen behin
 dern und blockieren. Szenen aus den Evangelien.\nAusführliche Beschreibung
 : Wie Jesus mit den Blockaden arbeitet\, bis sie keine Hindernisse mehr si
 nd\, sehen wir an drei Szenen aus den Evangelien.\n\nJesus als Erzähler de
 r Geschichten Gottes versteht\, dass viele Dinge seine Menschen behindern 
 und blockieren. In den meisten Fällen können diese Blockaden nicht durch i
 ndividuelle Anstrengung überwunden werden. Jemand\, der sich liebevoll die
  Fülle des Lebens für andere wünscht (wie Jesus)\, muss mit den Blockaden 
 arbeiten\, bis sie keine Hindernisse mehr sind. \n  \nIn seinen Geschichte
 n\, wie auch in all seinen Interaktionen mit anderen\, weiß Jesus Dinge üb
 er die innere Funktionsweise des menschlichen Herzens\, die ihm helfen\, s
 eine Menschen zu leiten und zu lehren. Die Begegnungen mit dem Rechtsgeleh
 rten (Lukas 10\, 25-37)\, dem jungen Mann (Matthäus 19\, 16-22) und Petrus
  (Johannes 13\, 3-11) sind ausgezeichnete Beispiele dafür\, die wir zusamm
 en anschauen wollen.\nInternetadresse (eigene Infos im Internet): http://w
 ww.eeb-sued.de\nFörderbereich: Religiöse Bildung\, Religionen\, Theologie\
 , Ethik\, Grenzfragen\nReferent/in: Pater Erik Riechers SAC\nMargit Büttne
 r\nAnsprechpartner/in - Leitung: Margit Büttner\nKosten: freiwilliger Beit
 rag\nZusatzinformationen: bis 06.01.2023 an anmeldung@eeb-sued.de\, Stichw
 ort „Narrative Theologie“\nAnsprechpartner: Margit Büttner mbuettner@eeb-s
 ued.de\nTelefon 06761/7018
DTSTART;TZID=Europe/Berlin:20230110T100000
DTEND;TZID=Europe/Berlin:20230110T120000
LOCATION:Internet: nur Internet
SUMMARY:Narrative Theologie: Eine Theologie\, geboren aus Segen und Fluch\,
  Narben und Küssen :: Jesus als Erzähler der Geschichten Gottes versteht\,
  dass viele Dinge seine Menschen behindern und blockieren. Szenen aus den 
 Evangelien.
URL:https://termine.ekir.de/veranstaltung_im_detail655699.html
END:VEVENT
END:VCALENDAR
