BEGIN:VCALENDAR
VERSION:2.0
PRODID:-//evangelische-termine.de//NONSGML kigkonsult.se iCalcreator 2.18//
CALSCALE:GREGORIAN
METHOD:PUBLISH
X-WR-CALNAME:iCal Evangelische-Termine 19.04.2026
X-WR-CALDESC:iCalender von Evangelische-Termine (19.04.2026)
X-WR-TIMEZONE:Europe/Berlin
X-MS-OLK-FORCEINSPECTOROPEN:TRUE
BEGIN:VTIMEZONE
TZID:Europe/Berlin
BEGIN:STANDARD
DTSTART:19701025T030000
TZOFFSETFROM:+0200
TZOFFSETTO:+0100
RRULE:FREQ=YEARLY;BYDAY=-1SU;BYMONTH=10
TZNAME:CET
END:STANDARD
BEGIN:DAYLIGHT
DTSTART:19700329T020000
TZOFFSETFROM:+0100
TZOFFSETTO:+0200
RRULE:FREQ=YEARLY;BYDAY=-1SU;BYMONTH=3
TZNAME:CEST
END:DAYLIGHT
END:VTIMEZONE
BEGIN:VEVENT
UID:20230315T143000-655744@evangelische-termine.de
DTSTAMP:20260419T155749Z
DESCRIPTION:\nKirchenkreis: Simmern-Trarbach\nArt der Veranstaltung: Fortbi
 ldungen / Seminare / Vorträge\nVeranstaltungsort: Ev. Erwachsenenbildungsw
 erk Rheinland-Süd e.V.\, Simmern\nHerzog-Reichard-Str. 30\n55469 Simmern\n
 Kurzbeschreibung / Untertitel: Lesen und Schreiben lernen mit Smartphone u
 nd Computer\nAusführliche Beschreibung: Mehr als 6 Mio erwachsene Menschen
  können nicht ausreichend lesen und schreiben. Die immer mehr auch in allt
 äglichen Angelegenheiten voranschreitende Digitalisierung macht es nicht e
 infacher. In diesem Kurs lernen die Teilnehmer\, digitale Möglichkeiten zu
 m Lernen kennen. Dabei werden auch digitale Kompetenzen wie z.B. das Schre
 iben und Lesen von Emails\, der Umgang mit einem Textverarbeitungsprogramm
 \, die Einholung von Informationen im Internet\, Ausfüllen von Online-Form
 ularen u.v.m. vermittelt. Der Unterricht findet in Präsenz und in Video-Ko
 nferenzen statt.\nInternetadresse (eigene Infos im Internet): http://www.e
 eb-sued.de\nFörderbereich: Bildung und Erziehung\nReferent/in: Alexandra W
 ust\, Bildungsreferentin im eeb\nAnsprechpartner/in - Leitung: Alexandra W
 ust\nKosten: kostenlos\nZusatzinformationen: Anmeldung unter swust@eeb-sue
 d.de oder Tel. 0160 7637103 oder 06761 7018\n: \nAnsprechpartner: Alexandr
 a Wust swust@eeb-sued.de\n06761/7018
DTSTART;TZID=Europe/Berlin:20230315T143000
DTEND;TZID=Europe/Berlin:20230315T160000
LOCATION:Simmern: Ev. Erwachsenenbildungswerk Rheinland-Süd e.V.\, Simmern
RRULE:FREQ=DAILY;UNTIL=20230615T235900Z;INTERVAL=1;WKST=SU
SUMMARY:Grundbildung digital :: Lesen und Schreiben lernen mit Smartphone u
 nd Computer
URL:https://termine.ekir.de/veranstaltung_im_detail655744.html
END:VEVENT
END:VCALENDAR
