BEGIN:VCALENDAR
VERSION:2.0
PRODID:-//evangelische-termine.de//NONSGML kigkonsult.se iCalcreator 2.18//
CALSCALE:GREGORIAN
METHOD:PUBLISH
X-WR-CALNAME:iCal Evangelische-Termine 19.04.2026
X-WR-CALDESC:iCalender von Evangelische-Termine (19.04.2026)
X-WR-TIMEZONE:Europe/Berlin
X-MS-OLK-FORCEINSPECTOROPEN:TRUE
BEGIN:VTIMEZONE
TZID:Europe/Berlin
BEGIN:STANDARD
DTSTART:19701025T030000
TZOFFSETFROM:+0200
TZOFFSETTO:+0100
RRULE:FREQ=YEARLY;BYDAY=-1SU;BYMONTH=10
TZNAME:CET
END:STANDARD
BEGIN:DAYLIGHT
DTSTART:19700329T020000
TZOFFSETFROM:+0100
TZOFFSETTO:+0200
RRULE:FREQ=YEARLY;BYDAY=-1SU;BYMONTH=3
TZNAME:CEST
END:DAYLIGHT
END:VTIMEZONE
BEGIN:VEVENT
UID:20230522T000000-657804@evangelische-termine.de
DTSTAMP:20260419T160714Z
DESCRIPTION:\nKirchenkreis: überregional\nArt der Veranstaltung: Freizeiten
  / Reisen\nVeranstaltungsort: Ev. Erwachsenenbildungswerk Rheinland-Süd e.
 V.\, Simmern\nHerzog-Reichard-Str. 30\n55469 Simmern\nKurzbeschreibung / U
 ntertitel: Auschwitz „Geschichte vor Ort erfahren“\nAusführliche Beschreib
 ung: Auschwitz war das größte nationalsozialistische Vernichtungslager\, i
 n dem mehr als eineinhalb Millionen Menschen ermordet wurden. Entsprechend
  steht dieser Name als Synonym für den Völkermord an den europäischen Jude
 n. Aber auch Polen\, Russen\, Sinti und Roma\, Christen\, Behinderte\, Hom
 o­sexuelle... sind hier dem Rassenwahn der Nationalsozialisten zum Opfer g
 efallen. Männer\, Frauen und Kinder.\nDie fünftägige Studienfahrt bietet 
 \nIhnen die Möglichkeit\, sich mit diesem Teil der Geschichte\, aufgehoben
  in einer Gruppe und unter fachlicher Begleitung\, auseinander zu setzen.
 \nProgramm\n> (Entstehungs)geschichte des Stammlagers Auschwitz.\n> Führun
 g durch das Stammlager Auschwitz + Länderausstellung\n> Besuch Lager Ausch
 witz-Birkenau\n> Fahrt nach Krakau: Besuch des Schindler-Museum mit Zeitze
 ugin Niusia Horowitz \n> Stadtführung und das jüdische Viertel Kazimierz u
 nd das ehemalige Ghetto \n> Abendessen im jüdischen Lokal Klezmer-Hois\, t
 raditionellen jüdischen \n   Lokal mit Live-Klezmermusik\n> Stadtführung A
 uschwitz \n\nZur Studienreise gehören ein Vorbereitungstreffen und ein Nac
 htreffen.\nVoraussichtlicher Termin des Vorbereitungstreffens im Februar/M
 ärz 2023 \nim Ev. Erwachsenenbildungswerk in Simmern.\n\n(Preis beinhaltet
  Flug/ÜN/Verpflegung/Eintrittspreise für Stammlager und Auschwitz-Birkenau
 \, Honorar Zeitzeugin\; Kosten für Exkursion Krakau + Stadtführung sowie A
 bendessen im jüdischen Lokal (Änderungen sind aufgrund von Preisanpassunge
 n bei den Flügen möglich)\nInternetadresse (eigene Infos im Internet): htt
 ps://eeb-sued.de/studienfahrt-auschwitz-birkenau-krakau/\nFörderbereich: P
 olitik/Gesellschaft\nReferent/in: Reiner Engelmann\, Sozialpädagoge\nAnspr
 echpartner/in - Leitung: Reiner Engelmann\, Sozialpädagoge\nKosten: 780\,–
  € /Pers.\nZusatzinformationen: bis zum 01.02.2023 über das Anmeldeformula
 r unter https://eeb-sued.de/studienfahrt-auschwitz-birkenau-krakau/
DTSTART;VALUE=DATE:20230522
DTEND;VALUE=DATE:20230527
LOCATION:Simmern: Ev. Erwachsenenbildungswerk Rheinland-Süd e.V.\, Simmern
SUMMARY:Studienfahrt Auschwitz – Birkenau – Krakau „Geschichte vor Ort erfa
 hren“ :: Auschwitz „Geschichte vor Ort erfahren“
URL:https://termine.ekir.de/veranstaltung_im_detail657804.html
END:VEVENT
END:VCALENDAR
