BEGIN:VCALENDAR
VERSION:2.0
PRODID:-//evangelische-termine.de//NONSGML kigkonsult.se iCalcreator 2.18//
CALSCALE:GREGORIAN
METHOD:PUBLISH
X-WR-CALNAME:iCal Evangelische-Termine 19.04.2026
X-WR-CALDESC:iCalender von Evangelische-Termine (19.04.2026)
X-WR-TIMEZONE:Europe/Berlin
X-MS-OLK-FORCEINSPECTOROPEN:TRUE
BEGIN:VTIMEZONE
TZID:Europe/Berlin
BEGIN:STANDARD
DTSTART:19701025T030000
TZOFFSETFROM:+0200
TZOFFSETTO:+0100
RRULE:FREQ=YEARLY;BYDAY=-1SU;BYMONTH=10
TZNAME:CET
END:STANDARD
BEGIN:DAYLIGHT
DTSTART:19700329T020000
TZOFFSETFROM:+0100
TZOFFSETTO:+0200
RRULE:FREQ=YEARLY;BYDAY=-1SU;BYMONTH=3
TZNAME:CEST
END:DAYLIGHT
END:VTIMEZONE
BEGIN:VEVENT
UID:20230202T190000-672306@evangelische-termine.de
DTSTAMP:20260419T160905Z
DESCRIPTION:\nKirchenkreis: überregional\nArt der Veranstaltung: Freizeiten
  / Reisen\nKurzbeschreibung / Untertitel: - Eine Einführung in Kultur und 
 Landschaft im Norden der “Grünen Insel” –\nAusführliche Beschreibung: Wer 
 vom Norden Irlands oder von “Nordirland” hört\, denkt unweigerlich an Bürg
 er- oder Religionskrieg\, an Konflikte und Auseinandersetzungen. Dass Nord
 irland aber eine Vielzahl landschaftlicher Reize und Schönheiten\, ungewöh
 nliche Küstenformationen und herrliche Gärten\, aber auch kunst- und kultu
 rgeschichtlich Einmaliges zu bieten hat\, geht dabei meist verloren. Ihnen
  viele dieser weniger bekannten schönen Seiten dieses selten besuchten Tei
 ls der Insel\, gerade auch unter Einbeziehung der an Nordirland grenzenden
  Grafschaften der Republik\, vorzustellen\, ist Anliegen dieser „Bilder-Re
 ise“ von und mit Eckhard Ladner.\nDieser Vortrag dient auch der Vorbereitu
 ng für die vom 14.5. – 21.5.2023 stattfindende Studienreise auf die „Grüne
  Insel“.\nInternetadresse (eigene Infos im Internet): http://www.eeb-sued.
 de\nFörderbereich: Politische Bildung\nReferent/in: Eckhard Ladner\, Studi
 en- und Programmleiter des „Europäischen Bildungs- und Begegnungszentrums 
 Irland”\nAnsprechpartner/in - Leitung: Kirsten Arnswald\nKosten: kostenlos
 \nZusatzinformationen: Anmeldung bis 26.01.2023 an Ev. Erwachsenenbildungs
 werk Rheinland-Süd e.V. per Mail: anmeldung@eeb-sued.de\n: \nAnsprechpartn
 er: Kirsten Arnswald karnswald@eeb-sued.de\n06761/7019
DTSTART;TZID=Europe/Berlin:20230202T190000
DTEND;TZID=Europe/Berlin:20230202T210000
LOCATION:Internet: nur Internet
SUMMARY:Der Norden Irlands – anders als man denkt :: – Eine Einführung in K
 ultur und Landschaft im Norden der „Grünen Insel” –
URL:https://termine.ekir.de/veranstaltung_im_detail672306.html
END:VEVENT
END:VCALENDAR
