BEGIN:VCALENDAR
VERSION:2.0
PRODID:-//evangelische-termine.de//NONSGML kigkonsult.se iCalcreator 2.18//
CALSCALE:GREGORIAN
METHOD:PUBLISH
X-WR-CALNAME:iCal Evangelische-Termine 19.04.2026
X-WR-CALDESC:iCalender von Evangelische-Termine (19.04.2026)
X-WR-TIMEZONE:Europe/Berlin
X-MS-OLK-FORCEINSPECTOROPEN:TRUE
BEGIN:VTIMEZONE
TZID:Europe/Berlin
BEGIN:STANDARD
DTSTART:19701025T030000
TZOFFSETFROM:+0200
TZOFFSETTO:+0100
RRULE:FREQ=YEARLY;BYDAY=-1SU;BYMONTH=10
TZNAME:CET
END:STANDARD
BEGIN:DAYLIGHT
DTSTART:19700329T020000
TZOFFSETFROM:+0100
TZOFFSETTO:+0200
RRULE:FREQ=YEARLY;BYDAY=-1SU;BYMONTH=3
TZNAME:CEST
END:DAYLIGHT
END:VTIMEZONE
BEGIN:VEVENT
UID:20230201T000000-673419@evangelische-termine.de
DTSTAMP:20260419T160848Z
DESCRIPTION:\nKirchenkreis: Simmern-Trarbach\nArt der Veranstaltung: Fortbi
 ldungen / Seminare / Vorträge\nVeranstaltungsort: Cafè Freiraum\, Rheinböl
 len\nAm Guldenbach 60\n55494 Rheinböllen\nKurzbeschreibung / Untertitel: A
 lphabetisierungs- und Grundbildungskurs Fortgeschrittenenkurs II\nAusführl
 iche Beschreibung: Vielen Menschen fällt das Lesen und Schreiben von alltä
 glichen Texten schwer. Sie können sich so oftmals nicht selbst mitteilen o
 der notwendige Informationen erkennen und erhalten. \nIn diesem Kurs wird 
 abgestimmt auf den individuellen Lernstand die deutsche Schriftsprache mit
 hilfe von alltäglichen Schreibanlässen und vielen Materialien aus dem Lebe
 n erarbeitet und gefestigt.\nDer Kurs findet vom 01.02. bis zum 30.06.2023
  jeweils mittwochs von 8.30 bis 11.30 Uhr und freitags von 8.30 bis 10.00 
 Uhr statt.\nInternetadresse (eigene Infos im Internet): https://eeb-sued.d
 e/projekte/alphabetisierungskurse-und-unterstuetzungsmassnahmen/\nFörderbe
 reich: Sonstiges\nAnsprechpartner/in - Leitung: Alexandra Wust\nZusatzinfo
 rmationen: Weitere Informationen bei Alexandra Wust unter Tel. 0160 763710
 3 \noder swust@eeb-sued.de\n: \nAnsprechpartner: Alexandra Wust swust@eeb-
 sued.de\n06761/7018
DTSTART;VALUE=DATE:20230201
DTEND;VALUE=DATE:20230202
LOCATION:Rheinböllen: Cafè Freiraum\, Rheinböllen
SUMMARY:Deutsch lesen und schreiben lernen für den Alltag – Fortgeschritten
 enkurs II – Rheinböllen :: Alphabetisierungs- und Grundbildungskurs Fortge
 schrittenenkurs I
URL:https://termine.ekir.de/veranstaltung_im_detail673419.html
END:VEVENT
END:VCALENDAR
