BEGIN:VCALENDAR
VERSION:2.0
PRODID:-//evangelische-termine.de//NONSGML kigkonsult.se iCalcreator 2.18//
CALSCALE:GREGORIAN
METHOD:PUBLISH
X-WR-CALNAME:iCal Evangelische-Termine 19.04.2026
X-WR-CALDESC:iCalender von Evangelische-Termine (19.04.2026)
X-WR-TIMEZONE:Europe/Berlin
X-MS-OLK-FORCEINSPECTOROPEN:TRUE
BEGIN:VTIMEZONE
TZID:Europe/Berlin
BEGIN:STANDARD
DTSTART:19701025T030000
TZOFFSETFROM:+0200
TZOFFSETTO:+0100
RRULE:FREQ=YEARLY;BYDAY=-1SU;BYMONTH=10
TZNAME:CET
END:STANDARD
BEGIN:DAYLIGHT
DTSTART:19700329T020000
TZOFFSETFROM:+0100
TZOFFSETTO:+0200
RRULE:FREQ=YEARLY;BYDAY=-1SU;BYMONTH=3
TZNAME:CEST
END:DAYLIGHT
END:VTIMEZONE
BEGIN:VEVENT
UID:20230131T000000-673462@evangelische-termine.de
DTSTAMP:20260419T160847Z
DESCRIPTION:\nKirchenkreis: Simmern-Trarbach\nArt der Veranstaltung: Fortbi
 ldungen / Seminare / Vorträge\nVeranstaltungsort: Café Mosaik Kirchberg\nK
 appeler Straße 3\n55481 Kirchberg\nKurzbeschreibung / Untertitel: Alphabet
 isierungs- und Grundbildungskurs Fortgeschrittenenkurs I\nAusführliche Bes
 chreibung: Vielen Menschen fällt das Lesen und Schreiben von alltäglichen 
 Texten schwer. Sie können sich so oftmals nicht selbst mitteilen oder notw
 endige Informationen erkennen und erhalten. \nIn diesem Kurs wird abgestim
 mt auf den individuellen Lernstand die deutsche Schriftsprache mithilfe vo
 n alltäglichen Schreibanlässen und vielen Materialien aus dem Leben erarbe
 itet und gefestigt.\nDer Kurs findet vom 31.01. bis zum 29.06.2023 jeweils
  dienstags und donnerstags von 16.15 bis 18.30 Uhr statt.\nInternetadresse
  (eigene Infos im Internet): https://eeb-sued.de/projekte/alphabetisierung
 skurse-und-unterstuetzungsmassnahmen/\nFörderbereich: Sonstiges\nAnsprechp
 artner/in - Leitung: Alexandra Wust\nZusatzinformationen: Weitere Informat
 ionen bei Alexandra Wust unter Tel. 0160 7637103 \noder swust@eeb-sued.de
 \n: \nAnsprechpartner: Alexandra Wust swust@eeb-sued.de\n06761/7018
DTSTART;VALUE=DATE:20230131
DTEND;VALUE=DATE:20230201
LOCATION:Kirchberg: Café Mosaik Kirchberg
SUMMARY:Deutsch lesen und schreiben lernen  für den Alltag - Fortgeschritte
 nenkurs I – Kirchberg :: Alphabetisierungs- und Grundbildungskurs Fortgesc
 hrittenenkurs I
URL:https://termine.ekir.de/veranstaltung_im_detail673462.html
END:VEVENT
END:VCALENDAR
