BEGIN:VCALENDAR
VERSION:2.0
PRODID:-//evangelische-termine.de//NONSGML kigkonsult.se iCalcreator 2.18//
CALSCALE:GREGORIAN
METHOD:PUBLISH
X-WR-CALNAME:iCal Evangelische-Termine 19.04.2026
X-WR-CALDESC:iCalender von Evangelische-Termine (19.04.2026)
X-WR-TIMEZONE:Europe/Berlin
X-MS-OLK-FORCEINSPECTOROPEN:TRUE
BEGIN:VTIMEZONE
TZID:Europe/Berlin
BEGIN:STANDARD
DTSTART:19701025T030000
TZOFFSETFROM:+0200
TZOFFSETTO:+0100
RRULE:FREQ=YEARLY;BYDAY=-1SU;BYMONTH=10
TZNAME:CET
END:STANDARD
BEGIN:DAYLIGHT
DTSTART:19700329T020000
TZOFFSETFROM:+0100
TZOFFSETTO:+0200
RRULE:FREQ=YEARLY;BYDAY=-1SU;BYMONTH=3
TZNAME:CEST
END:DAYLIGHT
END:VTIMEZONE
BEGIN:VEVENT
UID:20230130T000000-673509@evangelische-termine.de
DTSTAMP:20260419T160925Z
DESCRIPTION:\nKirchenkreis: Simmern-Trarbach\nArt der Veranstaltung: Fortbi
 ldungen / Seminare / Vorträge\nVeranstaltungsort: Café International Büche
 rnbeuren\nHauptstraße 55\n55487 Büchenbeuren\nKurzbeschreibung / Untertite
 l: Alphabetisierungs- und Grundbildungskurs Fortgeschrittenenkurs I\nAusfü
 hrliche Beschreibung: Vielen Menschen fällt das Lesen und Schreiben von al
 ltäglichen Texten schwer. Sie können sich so oftmals nicht selbst mitteile
 n oder notwendige Informationen erkennen und erhalten. \nIn diesem Kurs wi
 rd abgestimmt auf den individuellen Lernstand die deutsche Schriftsprache 
 mithilfe von alltäglichen Schreibanlässen und vielen Materialien aus dem L
 eben erarbeitet und gefestigt.\nDer Kurs findet vom 30.01. bis zum 01.07.2
 023 jeweils montags von 16.15 bis 18.30 Uhr und samstags von 9.00 bis 11.1
 5 Uhr statt.\nInternetadresse (eigene Infos im Internet): https://eeb-sued
 .de/projekte/alphabetisierungskurse-und-unterstuetzungsmassnahmen/\nFörder
 bereich: Sonstiges\nAnsprechpartner/in - Leitung: Alexandra Wust\nZusatzin
 formationen: Weitere Informationen bei Alexandra Wust unter Tel. 0160 7637
 103 \noder swust@eeb-sued.de\n: \nAnsprechpartner: Alexandra Wust swust@ee
 b-sued.de\n06761/7018
DTSTART;VALUE=DATE:20230130
DTEND;VALUE=DATE:20230131
LOCATION:Büchenbeuren: Café International Büchernbeuren
SUMMARY:Deutsch lesen und schreiben lernen  für den Alltag - Fortgeschritte
 nenkurs I – Büchenbeuren :: Alphabetisierungs- und Grundbildungskurs Fortg
 eschrittenenkurs I
URL:https://termine.ekir.de/veranstaltung_im_detail673509.html
END:VEVENT
END:VCALENDAR
