BEGIN:VCALENDAR
VERSION:2.0
PRODID:-//evangelische-termine.de//NONSGML kigkonsult.se iCalcreator 2.18//
CALSCALE:GREGORIAN
METHOD:PUBLISH
X-WR-CALNAME:iCal Evangelische-Termine 19.04.2026
X-WR-CALDESC:iCalender von Evangelische-Termine (19.04.2026)
X-WR-TIMEZONE:Europe/Berlin
X-MS-OLK-FORCEINSPECTOROPEN:TRUE
BEGIN:VTIMEZONE
TZID:Europe/Berlin
BEGIN:STANDARD
DTSTART:19701025T030000
TZOFFSETFROM:+0200
TZOFFSETTO:+0100
RRULE:FREQ=YEARLY;BYDAY=-1SU;BYMONTH=10
TZNAME:CET
END:STANDARD
BEGIN:DAYLIGHT
DTSTART:19700329T020000
TZOFFSETFROM:+0100
TZOFFSETTO:+0200
RRULE:FREQ=YEARLY;BYDAY=-1SU;BYMONTH=3
TZNAME:CEST
END:DAYLIGHT
END:VTIMEZONE
BEGIN:VEVENT
UID:20230211T100000-673510@evangelische-termine.de
DTSTAMP:20260419T160849Z
DESCRIPTION:\nKirchenkreis: überregional\nArt der Veranstaltung: Fortbildun
 gen / Seminare / Vorträge\nAusführliche Beschreibung: Anhand im Vorfeld ei
 ngereichter Fragen besprechen wir gemeinsam Probleme und Wünsche in BVS. G
 eeignet für neue und erfahrene Anwender*innen von BVS.\nFörderbereich: Ehr
 enamt\nReferent/in: Andrea Dörr und Helena Schäuble\nAnsprechpartner/in - 
 Leitung: Helena Schäuble\nKosten: keine\nZusatzinformationen: Anmeldung pe
 r Mail bis 28.01.2023 an anmeldung@eeb-sued.de\, Stichwort 'BVS Anwendertr
 effen'. Bitte geben Sie in Ihrer Anmeldung Name und Adresse der Bücherei s
 owie die Namen der Teilnehmenden an. Nach Ihrer Anmeldung erhalten Sie ein
 en Zugangslink.
DTSTART;TZID=Europe/Berlin:20230211T100000
DTEND;TZID=Europe/Berlin:20230211T130000
LOCATION:Internet: nur Internet
SUMMARY:BVS Anwendertreffen Online :: Kollegialer Austausch für Mitarbeiten
 de in Büchereien
URL:https://termine.ekir.de/veranstaltung_im_detail673510.html
END:VEVENT
END:VCALENDAR
