BEGIN:VCALENDAR
VERSION:2.0
PRODID:-//evangelische-termine.de//NONSGML kigkonsult.se iCalcreator 2.18//
CALSCALE:GREGORIAN
METHOD:PUBLISH
X-WR-CALNAME:iCal Evangelische-Termine 19.04.2026
X-WR-CALDESC:iCalender von Evangelische-Termine (19.04.2026)
X-WR-TIMEZONE:Europe/Berlin
X-MS-OLK-FORCEINSPECTOROPEN:TRUE
BEGIN:VTIMEZONE
TZID:Europe/Berlin
BEGIN:STANDARD
DTSTART:19701025T030000
TZOFFSETFROM:+0200
TZOFFSETTO:+0100
RRULE:FREQ=YEARLY;BYDAY=-1SU;BYMONTH=10
TZNAME:CET
END:STANDARD
BEGIN:DAYLIGHT
DTSTART:19700329T020000
TZOFFSETFROM:+0100
TZOFFSETTO:+0200
RRULE:FREQ=YEARLY;BYDAY=-1SU;BYMONTH=3
TZNAME:CEST
END:DAYLIGHT
END:VTIMEZONE
BEGIN:VEVENT
UID:20230325T100000-673513@evangelische-termine.de
DTSTAMP:20260419T160850Z
DESCRIPTION:\nKirchenkreis: überregional\nArt der Veranstaltung: Fortbildun
 gen / Seminare / Vorträge\nKurzbeschreibung / Untertitel: Online Studienta
 g Katalogisierung / Titelaufnahme mit BVS\nAusführliche Beschreibung: Sie 
 sind neu in der Büchereiarbeit\, überlegen in die Ausleihe per Computer ei
 nzusteigen oder Sie wollen Ihr Wissen ein wenig auffrischen? In diesem Qua
 lifizierungsmodul erhalten Sie eine Einführung in das aktuelle Regelwerk z
 ur Katalogisierung von Medien und Erarbeitung der bibliographischen Beschr
 eibung anhand der Katalogisierungsmaske in BVS. \nDieses Onlinemodul ist T
 eil des Qualifizierungskurses 'Fit für die Büchereiarbeit'.\nFörderbereich
 : Ehrenamt\nReferent/in: Andrea Dörr\nHelena Schäuble\nAnsprechpartner/in 
 - Leitung: Helena Schäuble\nKosten: 20€\nZusatzinformationen: Verbindliche
  Anmeldung bis 10.03.2023 über das hinterlegte Anmeldeformular oder per Ma
 il an anmeldung@eeb-sued.de\, Stichwort 'Fit für die Büchereiarbeit Katalo
 gisierung'. Bitte geben Sie in Ihrer Anmeldung Name und Adresse der Bücher
 ei sowie die Namen der Teilnehmenden an. Nach Ihrer Anmeldung erhalten Sie
  einen Zugangslink.\n: 
DTSTART;TZID=Europe/Berlin:20230325T100000
DTEND;TZID=Europe/Berlin:20230325T140000
LOCATION:Internet: nur Internet
SUMMARY:Qualifizierungskurs Fit für die Büchereiarbeit :: Studientag Katalo
 gisierung / Titelaufnahme mit BVS
URL:https://termine.ekir.de/veranstaltung_im_detail673513.html
END:VEVENT
END:VCALENDAR
