BEGIN:VCALENDAR
VERSION:2.0
PRODID:-//evangelische-termine.de//NONSGML kigkonsult.se iCalcreator 2.18//
CALSCALE:GREGORIAN
METHOD:PUBLISH
X-WR-CALNAME:iCal Evangelische-Termine 19.04.2026
X-WR-CALDESC:iCalender von Evangelische-Termine (19.04.2026)
X-WR-TIMEZONE:Europe/Berlin
X-MS-OLK-FORCEINSPECTOROPEN:TRUE
BEGIN:VTIMEZONE
TZID:Europe/Berlin
BEGIN:STANDARD
DTSTART:19701025T030000
TZOFFSETFROM:+0200
TZOFFSETTO:+0100
RRULE:FREQ=YEARLY;BYDAY=-1SU;BYMONTH=10
TZNAME:CET
END:STANDARD
BEGIN:DAYLIGHT
DTSTART:19700329T020000
TZOFFSETFROM:+0100
TZOFFSETTO:+0200
RRULE:FREQ=YEARLY;BYDAY=-1SU;BYMONTH=3
TZNAME:CEST
END:DAYLIGHT
END:VTIMEZONE
BEGIN:VEVENT
UID:20230422T100000-673521@evangelische-termine.de
DTSTAMP:20260419T160904Z
DESCRIPTION:\nKirchenkreis: überregional\nArt der Veranstaltung: Fortbildun
 gen / Seminare / Vorträge\nVeranstaltungsort: Ev. Gemeindezentrum 'Die Arc
 he' Meckenheim-Merl\nAkazienstraße 3\n53340 Meckenheim-Merl\nKurzbeschreib
 ung / Untertitel: Studientag Kinder- und Jugendliteratur\, Thema Diversitä
 t im Kinderbuch\nAusführliche Beschreibung: Wir beschäftigen uns mit der S
 prach- und Leseentwicklung vom Pappbilderbuch bis zum Jugendbuch anhand ak
 tueller Beispiele\, Sie lernen Bewertungskriterien kennen und erarbeiten e
 rste Ideen für Aktionen mit den Pflichttiteln\, die Ihnen nach Ihrer Anmel
 dung bekanntgegeben werden.\nDieser Studientag ist Teil des Qualifizierung
 skurses 'Fit für die Büchereiarbeit'.\nFörderbereich: Ehrenamt\nReferent/i
 n: Simone Jacken\nAnsprechpartner/in - Leitung: Helena Schäuble\nKosten: 2
 0€ ohne Verpflegung\nZusatzinformationen: Verbindliche Anmeldung bis 07.04
 .2023 über das hinterlegte Anmeldeformular oder per Mail an anmeldung@eeb-
 sued.de\, Stichwort 'Fit für die Büchereiarbeit Kinder- und Jugendliteratu
 r'. Bitte geben Sie in Ihrer Anmeldung Name und Adresse der Bücherei sowie
  die Namen der Teilnehmenden an. Sie erhalten eine Bestätigung mit Adresse
  des Veranstaltungsortes und Angabe der Pflichttiteln nach Ihrer Anmeldung
 .\nDamit Sie Zeit haben\, sich im Vorfeld mit den Pflichttiteln zu beschäf
 tigen\, wäre eine frühe Anmeldung sinnvoll.\n: 
DTSTART;TZID=Europe/Berlin:20230422T100000
DTEND;TZID=Europe/Berlin:20230422T160000
LOCATION:Meckenheim-Merl: Ev. Gemeindezentrum 'Die Arche' Meckenheim-Merl
SUMMARY:Qualifizierungskurs Fit für die Büchereiarbeit :: Studientag Kinder
 - und Jugendliteratur
URL:https://termine.ekir.de/veranstaltung_im_detail673521.html
END:VEVENT
END:VCALENDAR
