BEGIN:VCALENDAR
VERSION:2.0
PRODID:-//evangelische-termine.de//NONSGML kigkonsult.se iCalcreator 2.18//
CALSCALE:GREGORIAN
METHOD:PUBLISH
X-WR-CALNAME:iCal Evangelische-Termine 19.04.2026
X-WR-CALDESC:iCalender von Evangelische-Termine (19.04.2026)
X-WR-TIMEZONE:Europe/Berlin
X-MS-OLK-FORCEINSPECTOROPEN:TRUE
BEGIN:VTIMEZONE
TZID:Europe/Berlin
BEGIN:STANDARD
DTSTART:19701025T030000
TZOFFSETFROM:+0200
TZOFFSETTO:+0100
RRULE:FREQ=YEARLY;BYDAY=-1SU;BYMONTH=10
TZNAME:CET
END:STANDARD
BEGIN:DAYLIGHT
DTSTART:19700329T020000
TZOFFSETFROM:+0100
TZOFFSETTO:+0200
RRULE:FREQ=YEARLY;BYDAY=-1SU;BYMONTH=3
TZNAME:CEST
END:DAYLIGHT
END:VTIMEZONE
BEGIN:VEVENT
UID:20230506T100000-673522@evangelische-termine.de
DTSTAMP:20260419T160756Z
DESCRIPTION:\nKirchenkreis: überregional\nArt der Veranstaltung: Fortbildun
 gen / Seminare / Vorträge\nVeranstaltungsort: Ev. Gemeindehaus Remagen\nMa
 rktstraße 25\n53424 Remagen\nKurzbeschreibung / Untertitel: Geschichten er
 zählen mit Bildtafeln und dem japanischen Papiertheater\nAusführliche Besc
 hreibung: Erfahren Sie mehr über das japanische Erzähltheater und seine Ei
 nsatzmöglichkeiten. \nBereits in vielen Büchereien und Kitas wird das Erzä
 hlen mit den Kamishibai erfolgreich eingesetzt. Aber es gibt noch viele we
 itere Einsatzmöglichkeiten. In diesem Workshop werden die Grundlagen des E
 rzählens mit dem Kamishibai vermittelt und es gibt viele Tipps und Tricks\
 , wie das Erzählen in der Gruppe zum Erfolg wird.\nFörderbereich: Ehrenamt
 \nReferent/in: Simone Jacken\nAnsprechpartner/in - Leitung: Helena Schäubl
 e\nKosten: 20\,– € ohne Verpflegung\nZusatzinformationen: Verbindliche Anm
 eldung bis 21.04.2023 über das hinterlegte Anmeldeformular oder per Mail a
 n anmeldung@eeb-sued.de\, Stichwort 'Kamishibai'. Bitte geben Sie den Name
 n und die Adresse der Bücherei an sowie die Namen der Teilnehmenden. Nach 
 Ihrer Anmeldung erhalten Sie eine Bestätigung mit genauen Angaben zum Vera
 nstaltungsort.\n: 
DTSTART;TZID=Europe/Berlin:20230506T100000
DTEND;TZID=Europe/Berlin:20230506T160000
LOCATION:Remagen: Ev. Gemeindehaus Remagen
SUMMARY:Workshop Kamishibai :: Geschichten erzählen mit Bildtafeln und dem 
 japanischen Papiertheater
URL:https://termine.ekir.de/veranstaltung_im_detail673522.html
END:VEVENT
END:VCALENDAR
