BEGIN:VCALENDAR
VERSION:2.0
PRODID:-//evangelische-termine.de//NONSGML kigkonsult.se iCalcreator 2.18//
CALSCALE:GREGORIAN
METHOD:PUBLISH
X-WR-CALNAME:iCal Evangelische-Termine 23.04.2026
X-WR-CALDESC:iCalender von Evangelische-Termine (23.04.2026)
X-WR-TIMEZONE:Europe/Berlin
X-MS-OLK-FORCEINSPECTOROPEN:TRUE
BEGIN:VTIMEZONE
TZID:Europe/Berlin
BEGIN:STANDARD
DTSTART:19701025T030000
TZOFFSETFROM:+0200
TZOFFSETTO:+0100
RRULE:FREQ=YEARLY;BYDAY=-1SU;BYMONTH=10
TZNAME:CET
END:STANDARD
BEGIN:DAYLIGHT
DTSTART:19700329T020000
TZOFFSETFROM:+0100
TZOFFSETTO:+0200
RRULE:FREQ=YEARLY;BYDAY=-1SU;BYMONTH=3
TZNAME:CEST
END:DAYLIGHT
END:VTIMEZONE
BEGIN:VEVENT
UID:20230916T100000-675864@evangelische-termine.de
DTSTAMP:20260423T105855Z
DESCRIPTION:\nKirchenkreis: überregional\nArt der Veranstaltung: Fortbildun
 gen / Seminare / Vorträge\nVeranstaltungsort: Ev. Kirchengemeinde Kaarst-H
 olzbüttgen\nLindenplatz 6\n41564 Kaarst\nKurzbeschreibung / Untertitel: St
 udientag Vom Buchhandel ins Regal\, Systematisieren\, Statistik\nAusführli
 che Beschreibung: Der Arbeitsgang von der Bestellung bis zur Aufstellung i
 ns Regal ist das Thema dieses Studientages. Welche Vorgänge sind hier zu b
 eachten und wie wenden wir die Systematik für evangelischen Büchereien an?
  Außerdem sprechen wir über die Statistik. Dieser Teil der Büchereiarbeit 
 ist nicht bei allen Mitarbeitenden beliebt. Warum dieser Bereich Ihrer Arb
 eit wichtig ist\, warum die Statistik (leider) gemacht werden muss und was
  Sie mit Ihren Zahlen machen können\, das zeigen Ihnen die Referentinnen M
 onika Kaless und Helena Schäuble. Beide sind langjährige und erfahrene Büc
 hereileiterinnen\, die ihr Wissen gerne an Sie weitergeben.\nDieser Studie
 ntag ist Teil des Qualifizierungskurses 'Fit für die Büchereiarbeit'.\nFör
 derbereich: Ehrenamt\nReferent/in: Monika Kaless\nHelena Schäuble\nAnsprec
 hpartner/in - Leitung: Helena Schäuble\nKosten: 20€ ohne Verpflegung\nZusa
 tzinformationen: Verbindliche Anmeldung bis 04.09.23 über das hinterlegte 
 Anmeldeformular oder per Mail an anmeldung@eeb-sued.de\, Stichwort 'Fit fü
 r die Büchereiarbeit Vom Buchhandel ins Regal'. Bitte geben Sie in Ihrer A
 nmeldung Name und Adresse der Bücherei sowie die Namen der Teilnehmenden a
 n. Sie erhalten eine Bestätigung mit Adresse des Veranstaltungsortes\n: 
DTSTART;TZID=Europe/Berlin:20230916T100000
DTEND;TZID=Europe/Berlin:20230916T170000
LOCATION:Kaarst: Ev. Kirchengemeinde Kaarst-Holzbüttgen
SUMMARY:Qualifizierungskurs Fit für die Büchereiarbeit :: Studientag vom Bu
 chhandel ins Regal\, Systematisieren\, Statistik
URL:https://termine.ekir.de/veranstaltung_im_detail675864.html
END:VEVENT
END:VCALENDAR
