BEGIN:VCALENDAR
VERSION:2.0
PRODID:-//evangelische-termine.de//NONSGML kigkonsult.se iCalcreator 2.18//
CALSCALE:GREGORIAN
METHOD:PUBLISH
X-WR-CALNAME:iCal Evangelische-Termine 19.04.2026
X-WR-CALDESC:iCalender von Evangelische-Termine (19.04.2026)
X-WR-TIMEZONE:Europe/Berlin
X-MS-OLK-FORCEINSPECTOROPEN:TRUE
BEGIN:VTIMEZONE
TZID:Europe/Berlin
BEGIN:STANDARD
DTSTART:19701025T030000
TZOFFSETFROM:+0200
TZOFFSETTO:+0100
RRULE:FREQ=YEARLY;BYDAY=-1SU;BYMONTH=10
TZNAME:CET
END:STANDARD
BEGIN:DAYLIGHT
DTSTART:19700329T020000
TZOFFSETFROM:+0100
TZOFFSETTO:+0200
RRULE:FREQ=YEARLY;BYDAY=-1SU;BYMONTH=3
TZNAME:CEST
END:DAYLIGHT
END:VTIMEZONE
BEGIN:VEVENT
UID:20230215T190000-676316@evangelische-termine.de
DTSTAMP:20260419T160850Z
DESCRIPTION:\nKirchenkreis: überregional\nArt der Veranstaltung: Fortbildun
 gen / Seminare / Vorträge\nKurzbeschreibung / Untertitel: Ein Jahr nach de
 m Beginn des völkerrechtswidrigen Angriffskriegs Russlands gegen die Ukrai
 ne stellt sich die Frage\, wie es weitergehen kann.\nAusführliche Beschrei
 bung: Die USA und Russland lassen nicht erkennen\, dass sie eine politisch
 e Lösung durch Verhandlungen suchen. Die Lieferung von zusätzlichen Waffen
 systemen trägt eher zur weiteren Eskalation bei. Aber es ist auch nicht ab
 sehbar\, dass eine Seite diesen Krieg gewinnen kann. Wem nützt ein jahrela
 nger Zermürbungskrieg? Gibt es am Ende nur Verlierer und eine lange Phase 
 der politischen Instabilität in Europa? Was sind die Ziele der USA und der
  Nato – und welche Rolle könnte Deutschland spielen? \nAndreas Zumach wird
  in seinem Vortrag auch die Chancen und mögliche Schritte für eine gerecht
 e „Zeitenwende“ und für eine europäische Friedensordnung nach dem Ukraine 
 – Krieg beschreiben.\nInternetadresse (eigene Infos im Internet): http://w
 ww.netzwerk-am-turm.de\nFörderbereich: Politische Bildung\nReferent/in: De
 r Referent Andreas Zumach\, 1954 geboren\, ist Journalist und Buchautor un
 d lebt in Berlin. Er war von 1988 bis 2020 UNO-Korrespondent mit Sitz in G
 enf. Er arbeitet für die TAZ und die Züricher Wochenzeitung (WOZ) sowie fü
 r andere Medien. Seit Jahren kommt er als Referent zu friedenspolitischen 
 Themen nach Bad Kreuznach.\nAnsprechpartner/in - Leitung: www.netzwerk-am-
 turm.de\nKosten: kostenlos\nZusatzinformationen: Anmeldung per Mail an: in
 fo@netzwerk-am-turm.de
DTSTART;TZID=Europe/Berlin:20230215T190000
DTEND;TZID=Europe/Berlin:20230215T200000
LOCATION:Internet: nur Internet
SUMMARY:Ein Jahr Krieg in der Ukraine – wie geht es weiter? :: Politische B
 ildung online
URL:https://termine.ekir.de/veranstaltung_im_detail676316.html
END:VEVENT
END:VCALENDAR
