BEGIN:VCALENDAR
VERSION:2.0
PRODID:-//evangelische-termine.de//NONSGML kigkonsult.se iCalcreator 2.18//
CALSCALE:GREGORIAN
METHOD:PUBLISH
X-WR-CALNAME:iCal Evangelische-Termine 19.04.2026
X-WR-CALDESC:iCalender von Evangelische-Termine (19.04.2026)
X-WR-TIMEZONE:Europe/Berlin
X-MS-OLK-FORCEINSPECTOROPEN:TRUE
BEGIN:VTIMEZONE
TZID:Europe/Berlin
BEGIN:STANDARD
DTSTART:19701025T030000
TZOFFSETFROM:+0200
TZOFFSETTO:+0100
RRULE:FREQ=YEARLY;BYDAY=-1SU;BYMONTH=10
TZNAME:CET
END:STANDARD
BEGIN:DAYLIGHT
DTSTART:19700329T020000
TZOFFSETFROM:+0100
TZOFFSETTO:+0200
RRULE:FREQ=YEARLY;BYDAY=-1SU;BYMONTH=3
TZNAME:CEST
END:DAYLIGHT
END:VTIMEZONE
BEGIN:VEVENT
UID:20231021T100000-676334@evangelische-termine.de
DTSTAMP:20260419T172941Z
DESCRIPTION:\nKirchenkreis: überregional\nArt der Veranstaltung: Fortbildun
 gen / Seminare / Vorträge\nVeranstaltungsort: Kath. Familienbildungsstätte
  Simmern e.V.\nAulergasse 8\n55469 Simmern\nKurzbeschreibung / Untertitel:
  Tagesseminare zum Thema Schreiben und Yoga\nAusführliche Beschreibung: „V
 erbundenheit“ ist das Motto dieser Kurstage\, in denen sich Yoga und Schre
 iben miteinander verbinden und zu einem Mittel werden\, das bewegt.\nWo fü
 hlen Sie sich verbunden? Was unterstützt Sie darin\, dieses Gefühl tief in
 nen zu verankern?\nDie Seminare geben Impulse\, Antworten zu finden. Sanft
 e Yogaübungen verbinden sich mit meditativen und kreativen Schreibimpulsen
 \, bringen die Gedanken in Schwung\, schenken innere Balance und geben neu
 e Kraft. Jedes Seminar beinhaltet andere wertvolle Impulse. Die Seminare b
 auen nicht aufeinander auf.\nFachkompetent und achtsam begleitet schenken 
 diese Stunden Zeit und Raum\, sich selbst ein Stück näher zu kommen. Es si
 nd keinerlei Vorkenntnisse erforderlich. Es genügt die Lust\, sich auf die
  Kombination aus Schreiben und Yoga einzulassen.\nInternetadresse (eigene 
 Infos im Internet): https://www.fbs-simmern.de/gesundheit-praevention/bewe
 gt-ins-wort-yoga-und-schreiben-1102/\nFörderbereich: Sonstiges\nReferent/i
 n: Dorothee Anton\, Dozentin für Literarische Werkstätten und Poesie- und 
 Bibliotherapie\nund Monika Hornberger\, Yogalehrerin (BYV)\nAnsprechpartne
 r/in - Leitung: Sekretariat der Kath. Familienbildungsstätte Simmern e.V.
 \nÖffnungszeiten Sekretaritat:\nMontags bis Donnerstags von 7.30 bis 12.00
  Uhr\nKosten: 47\,– €\nZusatzinformationen: Anmeldung unter: Tel. 06761 95
 020 oder unter\nfbs-simmern@t-online.de
DTSTART;TZID=Europe/Berlin:20231021T100000
DTEND;TZID=Europe/Berlin:20231021T160000
LOCATION:Simmern: Kath. Familienbildungsstätte Simmern e.V.
SUMMARY:Yoga und Schreiben – Bewegt ins Wort :: Tagesseminar zum Thema Schr
 eiben und Yoga
URL:https://termine.ekir.de/veranstaltung_im_detail676334.html
END:VEVENT
END:VCALENDAR
