BEGIN:VCALENDAR
VERSION:2.0
PRODID:-//evangelische-termine.de//NONSGML kigkonsult.se iCalcreator 2.18//
CALSCALE:GREGORIAN
METHOD:PUBLISH
X-WR-CALNAME:iCal Evangelische-Termine 19.04.2026
X-WR-CALDESC:iCalender von Evangelische-Termine (19.04.2026)
X-WR-TIMEZONE:Europe/Berlin
X-MS-OLK-FORCEINSPECTOROPEN:TRUE
BEGIN:VTIMEZONE
TZID:Europe/Berlin
BEGIN:STANDARD
DTSTART:19701025T030000
TZOFFSETFROM:+0200
TZOFFSETTO:+0100
RRULE:FREQ=YEARLY;BYDAY=-1SU;BYMONTH=10
TZNAME:CET
END:STANDARD
BEGIN:DAYLIGHT
DTSTART:19700329T020000
TZOFFSETFROM:+0100
TZOFFSETTO:+0200
RRULE:FREQ=YEARLY;BYDAY=-1SU;BYMONTH=3
TZNAME:CEST
END:DAYLIGHT
END:VTIMEZONE
BEGIN:VEVENT
UID:20230412T143000-679539@evangelische-termine.de
DTSTAMP:20260419T160849Z
DESCRIPTION:\nKirchenkreis: Altenkirchen\nArt der Veranstaltung: Fortbildun
 gen / Seminare / Vorträge\nVeranstaltungsort: Ev. Gemeindehaus Weyerbusch
 \nKölner Str. 7\n57635 Weyerbusch\nKurzbeschreibung / Untertitel: Wie habe
 n sich die Wohn- und Lebensverhältnisse von Frauen in den letzten hundert 
 Jahren verändert?\nAusführliche Beschreibung: Vor einhundert Jahren setzte
  sich die englische Schriftstellerin Virginia Woolf (1882-1941) mit den Le
 bensbedingungen der Frauen ihrer Zeit auseinander. Kaum eine besaß eigenes
  Einkommen\, kaum eine einen persönlichen Rückzugsraum. Wie haben sich Woh
 n- und Lebensverhältnisse von Frauen seitdem verändert\, wie haben wir es 
 selbst erlebt\, und wie erleben wir die Generation unserer Töchter und Enk
 elinnen?\nFörderbereich: Politische Bildung\nReferent/in: Margit Büttner\,
  Pfarrerin und Bildungsreferentin im eeb\nAnsprechpartner/in - Leitung: Ma
 rgit Büttner\, Pfarrerin und Bildungsreferentin im eeb\nKosten: kostenlos
 \nZusatzinformationen: Eine Veranstaltung des Frauentreff der Evangelische
 n Kirchengemeinde BIRNBACH\,\nAnmeldungen unter anmeldung@eeb-sued.de oder
  den Anmeldebutton.\n: \nAnsprechpartner: Margit Büttner mbuettner@eeb-sue
 d.de\nTelefon 06761/7018
DTSTART;TZID=Europe/Berlin:20230412T143000
DTEND;TZID=Europe/Berlin:20230412T163000
LOCATION:Weyerbusch: Ev. Gemeindehaus Weyerbusch
SUMMARY:Ein Zimmer für sich allein. Denkanstöße von  Virginia Woolf
URL:https://termine.ekir.de/veranstaltung_im_detail679539.html
END:VEVENT
END:VCALENDAR
